BEGIN:VCALENDAR
VERSION:2.0
PRODID:-//Mykolo Biržiškos gimnazija - ECPv5.4.0.1//NONSGML v1.0//EN
CALSCALE:GREGORIAN
METHOD:PUBLISH
X-WR-CALNAME:Mykolo Biržiškos gimnazija
X-ORIGINAL-URL:https://vmbg.lt
X-WR-CALDESC:Events for Mykolo Biržiškos gimnazija
BEGIN:VTIMEZONE
TZID:Europe/Helsinki
BEGIN:DAYLIGHT
TZOFFSETFROM:+0200
TZOFFSETTO:+0300
TZNAME:EEST
DTSTART:20220327T010000
END:DAYLIGHT
BEGIN:STANDARD
TZOFFSETFROM:+0300
TZOFFSETTO:+0200
TZNAME:EET
DTSTART:20221030T010000
END:STANDARD
END:VTIMEZONE
BEGIN:VEVENT
DTSTART;TZID=Europe/Helsinki:20220426T085500
DTEND;TZID=Europe/Helsinki:20220426T103500
DTSTAMP:20260423T031029
CREATED:20220331T063834Z
LAST-MODIFIED:20220331T063834Z
UID:11809-1650963300-1650969300@vmbg.lt
SUMMARY:PUPP matematikos bandomasis IIf kl. mokiniams
DESCRIPTION:
URL:https://vmbg.lt/renginiai/pupp-matematikos-bandomasis-iif-kl-mokiniams/
END:VEVENT
BEGIN:VEVENT
DTSTART;TZID=Europe/Helsinki:20220426T121000
DTEND;TZID=Europe/Helsinki:20220426T135000
DTSTAMP:20260423T031029
CREATED:20220331T063923Z
LAST-MODIFIED:20220331T063923Z
UID:11811-1650975000-1650981000@vmbg.lt
SUMMARY:PUPP matematikos bandomasis IIc kl. mokiniams
DESCRIPTION:
URL:https://vmbg.lt/renginiai/pupp-matematikos-bandomasis-iic-kl-mokiniams/
END:VEVENT
END:VCALENDAR