BEGIN:VCALENDAR
VERSION:2.0
PRODID:-//Mykolo Biržiškos gimnazija - ECPv5.4.0.1//NONSGML v1.0//EN
CALSCALE:GREGORIAN
METHOD:PUBLISH
X-WR-CALNAME:Mykolo Biržiškos gimnazija
X-ORIGINAL-URL:https://vmbg.lt
X-WR-CALDESC:Events for Mykolo Biržiškos gimnazija
BEGIN:VTIMEZONE
TZID:Europe/Helsinki
BEGIN:DAYLIGHT
TZOFFSETFROM:+0200
TZOFFSETTO:+0300
TZNAME:EEST
DTSTART:20220327T010000
END:DAYLIGHT
BEGIN:STANDARD
TZOFFSETFROM:+0300
TZOFFSETTO:+0200
TZNAME:EET
DTSTART:20221030T010000
END:STANDARD
END:VTIMEZONE
BEGIN:VEVENT
DTSTART;VALUE=DATE:20220428
DTEND;VALUE=DATE:20220429
DTSTAMP:20260423T055759
CREATED:20220331T074614Z
LAST-MODIFIED:20220331T074614Z
UID:11819-1651104000-1651190399@vmbg.lt
SUMMARY:Vilniaus miesto ugdymo įstaigų Teatrinių improvizacijų šventė „Į sceną!“. Simono Daukanto gimnazija
DESCRIPTION:
URL:https://vmbg.lt/renginiai/vilniaus-miesto-ugdymo-istaigu-teatriniu-improvizaciju-svente-i-scena-simono-daukanto-gimnazija/
END:VEVENT
BEGIN:VEVENT
DTSTART;TZID=Europe/Helsinki:20220428T080000
DTEND;TZID=Europe/Helsinki:20220428T094000
DTSTAMP:20260423T055759
CREATED:20220331T074447Z
LAST-MODIFIED:20220331T074504Z
UID:11817-1651132800-1651138800@vmbg.lt
SUMMARY:PUPP matematikos bandomasis IIa kl. mokiniams
DESCRIPTION:
URL:https://vmbg.lt/renginiai/pupp-matematikos-bandomasis-iia-kl-mokiniams/
END:VEVENT
END:VCALENDAR