BEGIN:VCALENDAR
VERSION:2.0
PRODID:-//Mykolo Biržiškos gimnazija - ECPv5.4.0.1//NONSGML v1.0//EN
CALSCALE:GREGORIAN
METHOD:PUBLISH
X-WR-CALNAME:Mykolo Biržiškos gimnazija
X-ORIGINAL-URL:https://vmbg.lt
X-WR-CALDESC:Events for Mykolo Biržiškos gimnazija
BEGIN:VTIMEZONE
TZID:Europe/Helsinki
BEGIN:DAYLIGHT
TZOFFSETFROM:+0200
TZOFFSETTO:+0300
TZNAME:EEST
DTSTART:20220327T010000
END:DAYLIGHT
BEGIN:STANDARD
TZOFFSETFROM:+0300
TZOFFSETTO:+0200
TZNAME:EET
DTSTART:20221030T010000
END:STANDARD
END:VTIMEZONE
BEGIN:VEVENT
DTSTART;TZID=Europe/Helsinki:20220429T095000
DTEND;TZID=Europe/Helsinki:20220429T114500
DTSTAMP:20260423T073612
CREATED:20220331T074708Z
LAST-MODIFIED:20220331T074708Z
UID:11822-1651225800-1651232700@vmbg.lt
SUMMARY:PUPP matematikos bandomasis IIg kl. mokiniams
DESCRIPTION:
URL:https://vmbg.lt/renginiai/pupp-matematikos-bandomasis-iig-kl-mokiniams/
END:VEVENT
BEGIN:VEVENT
DTSTART;TZID=Europe/Helsinki:20220429T121000
DTEND;TZID=Europe/Helsinki:20220429T135000
DTSTAMP:20260423T073612
CREATED:20220331T074802Z
LAST-MODIFIED:20220331T074929Z
UID:11824-1651234200-1651240200@vmbg.lt
SUMMARY:PUPP matematikos bandomasis IIb kl. mokiniams
DESCRIPTION:
URL:https://vmbg.lt/renginiai/pupp-matematikos-bandomasis-iib-kl-mokiniams/
END:VEVENT
END:VCALENDAR