BEGIN:VCALENDAR
VERSION:2.0
PRODID:-//Mykolo Biržiškos gimnazija - ECPv5.4.0.1//NONSGML v1.0//EN
CALSCALE:GREGORIAN
METHOD:PUBLISH
X-WR-CALNAME:Mykolo Biržiškos gimnazija
X-ORIGINAL-URL:https://vmbg.lt
X-WR-CALDESC:Events for Mykolo Biržiškos gimnazija
BEGIN:VTIMEZONE
TZID:Europe/Helsinki
BEGIN:DAYLIGHT
TZOFFSETFROM:+0200
TZOFFSETTO:+0300
TZNAME:EEST
DTSTART:20220327T010000
END:DAYLIGHT
BEGIN:STANDARD
TZOFFSETFROM:+0300
TZOFFSETTO:+0200
TZNAME:EET
DTSTART:20221030T010000
END:STANDARD
END:VTIMEZONE
BEGIN:VEVENT
DTSTART;VALUE=DATE:20220501
DTEND;VALUE=DATE:20220508
DTSTAMP:20260423T122239
CREATED:20220502T154223Z
LAST-MODIFIED:20220502T154223Z
UID:11865-1651363200-1651967999@vmbg.lt
SUMMARY:ERASMUS+ projekto WE READ\, THEREFORE\, WE ARE šalių partnerių vizitas Lietuvoje: svečiai iš Turkijos\, Graikijos\, Lenkijos\, Rumunijos
DESCRIPTION:
URL:https://vmbg.lt/renginiai/erasmus-projekto-we-read-therefore-we-are-saliu-partneriu-vizitas-lietuvoje-sveciai-is-turkijos-graikijos-lenkijos-rumunijos/
END:VEVENT
BEGIN:VEVENT
DTSTART;VALUE=DATE:20220502
DTEND;VALUE=DATE:20220503
DTSTAMP:20260423T122239
CREATED:20220502T154401Z
LAST-MODIFIED:20220502T154401Z
UID:11867-1651449600-1651535999@vmbg.lt
SUMMARY:Projektinių darbų 2022–2023 m. m. temų paskelbimas II klasių mokiniams. I aukšto foje
DESCRIPTION:
URL:https://vmbg.lt/renginiai/projektiniu-darbu-2022-2023-m-m-temu-paskelbimas-ii-klasiu-mokiniams-i-auksto-foje/
END:VEVENT
END:VCALENDAR