BEGIN:VCALENDAR
VERSION:2.0
PRODID:-//Mykolo Biržiškos gimnazija - ECPv5.4.0.1//NONSGML v1.0//EN
CALSCALE:GREGORIAN
METHOD:PUBLISH
X-WR-CALNAME:Mykolo Biržiškos gimnazija
X-ORIGINAL-URL:https://vmbg.lt
X-WR-CALDESC:Events for Mykolo Biržiškos gimnazija
BEGIN:VTIMEZONE
TZID:Europe/Helsinki
BEGIN:DAYLIGHT
TZOFFSETFROM:+0200
TZOFFSETTO:+0300
TZNAME:EEST
DTSTART:20220327T010000
END:DAYLIGHT
BEGIN:STANDARD
TZOFFSETFROM:+0300
TZOFFSETTO:+0200
TZNAME:EET
DTSTART:20221030T010000
END:STANDARD
END:VTIMEZONE
BEGIN:VEVENT
DTSTART;TZID=Europe/Helsinki:20220523T085500
DTEND;TZID=Europe/Helsinki:20220523T103500
DTSTAMP:20260423T073007
CREATED:20220502T160037Z
LAST-MODIFIED:20220502T160037Z
UID:11891-1653296100-1653302100@vmbg.lt
SUMMARY:III klasių mokinių istorijos A kurso patikrinamasis darbas
DESCRIPTION:
URL:https://vmbg.lt/renginiai/iii-klasiu-mokiniu-istorijos-a-kurso-patikrinamasis-darbas/
END:VEVENT
END:VCALENDAR