BEGIN:VCALENDAR
VERSION:2.0
PRODID:-//Mykolo Biržiškos gimnazija - ECPv5.4.0.1//NONSGML v1.0//EN
CALSCALE:GREGORIAN
METHOD:PUBLISH
X-WR-CALNAME:Mykolo Biržiškos gimnazija
X-ORIGINAL-URL:https://vmbg.lt
X-WR-CALDESC:Events for Mykolo Biržiškos gimnazija
BEGIN:VTIMEZONE
TZID:Europe/Helsinki
BEGIN:DAYLIGHT
TZOFFSETFROM:+0200
TZOFFSETTO:+0300
TZNAME:EEST
DTSTART:20220327T010000
END:DAYLIGHT
BEGIN:STANDARD
TZOFFSETFROM:+0300
TZOFFSETTO:+0200
TZNAME:EET
DTSTART:20221030T010000
END:STANDARD
END:VTIMEZONE
BEGIN:VEVENT
DTSTART;TZID=Europe/Helsinki:20220527T090000
DTEND;TZID=Europe/Helsinki:20220527T090000
DTSTAMP:20260423T014643
CREATED:20220502T160307Z
LAST-MODIFIED:20220502T160307Z
UID:11895-1653642000-1653642000@vmbg.lt
SUMMARY:„Paskutinio skambučio“ šventė
DESCRIPTION:
URL:https://vmbg.lt/renginiai/paskutinio-skambucio-svente/
END:VEVENT
BEGIN:VEVENT
DTSTART;TZID=Europe/Helsinki:20220527T170000
DTEND;TZID=Europe/Helsinki:20220527T170000
DTSTAMP:20260423T014643
CREATED:20220509T051058Z
LAST-MODIFIED:20220509T051058Z
UID:11947-1653670800-1653670800@vmbg.lt
SUMMARY:Mokinių žinių ir gebėjimų patikrinimo rezultatų skelbimas (į I gimnazijos klasę)
DESCRIPTION:
URL:https://vmbg.lt/renginiai/mokiniu-ziniu-ir-gebejimu-patikrinimo-rezultatu-skelbimas-i-i-gimnazijos-klase/
END:VEVENT
END:VCALENDAR