BEGIN:VCALENDAR
VERSION:2.0
PRODID:-//Mykolo Biržiškos gimnazija - ECPv5.4.0.1//NONSGML v1.0//EN
CALSCALE:GREGORIAN
METHOD:PUBLISH
X-WR-CALNAME:Mykolo Biržiškos gimnazija
X-ORIGINAL-URL:https://vmbg.lt
X-WR-CALDESC:Events for Mykolo Biržiškos gimnazija
BEGIN:VTIMEZONE
TZID:Europe/Helsinki
BEGIN:DAYLIGHT
TZOFFSETFROM:+0200
TZOFFSETTO:+0300
TZNAME:EEST
DTSTART:20220327T010000
END:DAYLIGHT
BEGIN:STANDARD
TZOFFSETFROM:+0300
TZOFFSETTO:+0200
TZNAME:EET
DTSTART:20221030T010000
END:STANDARD
END:VTIMEZONE
BEGIN:VEVENT
DTSTART;VALUE=DATE:20220531
DTEND;VALUE=DATE:20220604
DTSTAMP:20260422T192323
CREATED:20220605T174932Z
LAST-MODIFIED:20220605T174932Z
UID:12024-1653955200-1654300799@vmbg.lt
SUMMARY:Erasmus+ projekto "We Read Therefore We Are" šalių partnerių susitikimas Graikijoje
DESCRIPTION:
URL:https://vmbg.lt/renginiai/erasmus-projekto-we-read-therefore-we-are-saliu-partneriu-susitikimas-graikijoje/
END:VEVENT
END:VCALENDAR