BEGIN:VCALENDAR
VERSION:2.0
PRODID:-//Mykolo Biržiškos gimnazija - ECPv5.4.0.1//NONSGML v1.0//EN
CALSCALE:GREGORIAN
METHOD:PUBLISH
X-WR-CALNAME:Mykolo Biržiškos gimnazija
X-ORIGINAL-URL:https://vmbg.lt
X-WR-CALDESC:Events for Mykolo Biržiškos gimnazija
BEGIN:VTIMEZONE
TZID:Europe/Helsinki
BEGIN:DAYLIGHT
TZOFFSETFROM:+0200
TZOFFSETTO:+0300
TZNAME:EEST
DTSTART:20220327T010000
END:DAYLIGHT
BEGIN:STANDARD
TZOFFSETFROM:+0300
TZOFFSETTO:+0200
TZNAME:EET
DTSTART:20221030T010000
END:STANDARD
END:VTIMEZONE
BEGIN:VEVENT
DTSTART;VALUE=DATE:20221005
DTEND;VALUE=DATE:20221006
DTSTAMP:20260422T113029
CREATED:20220930T060706Z
LAST-MODIFIED:20220930T060706Z
UID:12264-1664928000-1665014399@vmbg.lt
SUMMARY:II–III klasių mokinių kūrybinių darbų paroda\, skirta Tarptautinei Mokytojų dienai
DESCRIPTION:
URL:https://vmbg.lt/renginiai/ii-iii-klasiu-mokiniu-kurybiniu-darbu-paroda-skirta-tarptautinei-mokytoju-dienai/
END:VEVENT
END:VCALENDAR