BEGIN:VCALENDAR
VERSION:2.0
PRODID:-//Mykolo Biržiškos gimnazija - ECPv5.4.0.1//NONSGML v1.0//EN
CALSCALE:GREGORIAN
METHOD:PUBLISH
X-WR-CALNAME:Mykolo Biržiškos gimnazija
X-ORIGINAL-URL:https://vmbg.lt
X-WR-CALDESC:Events for Mykolo Biržiškos gimnazija
BEGIN:VTIMEZONE
TZID:Europe/Helsinki
BEGIN:DAYLIGHT
TZOFFSETFROM:+0200
TZOFFSETTO:+0300
TZNAME:EEST
DTSTART:20220327T010000
END:DAYLIGHT
BEGIN:STANDARD
TZOFFSETFROM:+0300
TZOFFSETTO:+0200
TZNAME:EET
DTSTART:20221030T010000
END:STANDARD
END:VTIMEZONE
BEGIN:VEVENT
DTSTART;VALUE=DATE:20221010
DTEND;VALUE=DATE:20221015
DTSTAMP:20260422T002940
CREATED:20220930T061233Z
LAST-MODIFIED:20220930T061233Z
UID:12274-1665360000-1665791999@vmbg.lt
SUMMARY:ERASMUS+ projekto TEAM šalių partnerių vizitas MBG: svečiai iš Turkijos\, Italijos\, Danijos
DESCRIPTION:
URL:https://vmbg.lt/renginiai/erasmus-projekto-team-saliu-partneriu-vizitas-mbg-sveciai-is-turkijos-italijos-danijos/
END:VEVENT
BEGIN:VEVENT
DTSTART;VALUE=DATE:20221011
DTEND;VALUE=DATE:20221015
DTSTAMP:20260422T002940
CREATED:20220930T061838Z
LAST-MODIFIED:20220930T061909Z
UID:12284-1665446400-1665791999@vmbg.lt
SUMMARY:ES programavimo savaitė #CodeWeek. Dalyvauja II kl. mokiniai
DESCRIPTION:
URL:https://vmbg.lt/renginiai/es-programavimo-savaite-codeweek/
END:VEVENT
BEGIN:VEVENT
DTSTART;TZID=Europe/Helsinki:20221013T095000
DTEND;TZID=Europe/Helsinki:20221013T135000
DTSTAMP:20260422T002940
CREATED:20220930T062559Z
LAST-MODIFIED:20220930T062559Z
UID:12294-1665654600-1665669000@vmbg.lt
SUMMARY:VšĮ Šeškinės poliklinikos vykdomas projektas. Muzikos ir šokio terapinė edukacija. Dalyvauja III c kl.
DESCRIPTION:
URL:https://vmbg.lt/renginiai/vsi-seskines-poliklinikos-vykdomas-projektas-muzikos-ir-sokio-terapine-edukacija-dalyvauja-iii-c-kl/
END:VEVENT
BEGIN:VEVENT
DTSTART;TZID=Europe/Helsinki:20221013T130000
DTEND;TZID=Europe/Helsinki:20221013T130000
DTSTAMP:20260422T002940
CREATED:20220930T062439Z
LAST-MODIFIED:20220930T062439Z
UID:12292-1665666000-1665666000@vmbg.lt
SUMMARY:Spektaklis Diana Ganc „Lota“
DESCRIPTION:
URL:https://vmbg.lt/renginiai/spektaklis-diana-ganc-lota/
END:VEVENT
END:VCALENDAR