BEGIN:VCALENDAR
VERSION:2.0
PRODID:-//Mykolo Biržiškos gimnazija - ECPv5.4.0.1//NONSGML v1.0//EN
CALSCALE:GREGORIAN
METHOD:PUBLISH
X-WR-CALNAME:Mykolo Biržiškos gimnazija
X-ORIGINAL-URL:https://vmbg.lt
X-WR-CALDESC:Events for Mykolo Biržiškos gimnazija
BEGIN:VTIMEZONE
TZID:Europe/Helsinki
BEGIN:DAYLIGHT
TZOFFSETFROM:+0200
TZOFFSETTO:+0300
TZNAME:EEST
DTSTART:20220327T010000
END:DAYLIGHT
BEGIN:STANDARD
TZOFFSETFROM:+0300
TZOFFSETTO:+0200
TZNAME:EET
DTSTART:20221030T010000
END:STANDARD
END:VTIMEZONE
BEGIN:VEVENT
DTSTART;VALUE=DATE:20221021
DTEND;VALUE=DATE:20221022
DTSTAMP:20260422T125939
CREATED:20220930T062929Z
LAST-MODIFIED:20220930T062929Z
UID:12302-1666310400-1666396799@vmbg.lt
SUMMARY:Lietuvos mokinių mokslinė konferencija „Licėjaus dienos“
DESCRIPTION:
URL:https://vmbg.lt/renginiai/lietuvos-mokiniu-moksline-konferencija-licejaus-dienos/
END:VEVENT
BEGIN:VEVENT
DTSTART;TZID=Europe/Helsinki:20221021T090000
DTEND;TZID=Europe/Helsinki:20221021T130000
DTSTAMP:20260422T125939
CREATED:20220930T062813Z
LAST-MODIFIED:20220930T062813Z
UID:12300-1666342800-1666357200@vmbg.lt
SUMMARY:IV klasių mokinių lietuvių kalbos ir literatūros kontrolinis darbas – rašinys
DESCRIPTION:
URL:https://vmbg.lt/renginiai/iv-klasiu-mokiniu-lietuviu-kalbos-ir-literaturos-kontrolinis-darbas-rasinys/
END:VEVENT
END:VCALENDAR