BEGIN:VCALENDAR
VERSION:2.0
PRODID:-//Mykolo Biržiškos gimnazija - ECPv5.4.0.1//NONSGML v1.0//EN
CALSCALE:GREGORIAN
METHOD:PUBLISH
X-WR-CALNAME:Mykolo Biržiškos gimnazija
X-ORIGINAL-URL:https://vmbg.lt
X-WR-CALDESC:Events for Mykolo Biržiškos gimnazija
BEGIN:VTIMEZONE
TZID:Europe/Helsinki
BEGIN:DAYLIGHT
TZOFFSETFROM:+0200
TZOFFSETTO:+0300
TZNAME:EEST
DTSTART:20220327T010000
END:DAYLIGHT
BEGIN:STANDARD
TZOFFSETFROM:+0300
TZOFFSETTO:+0200
TZNAME:EET
DTSTART:20221030T010000
END:STANDARD
END:VTIMEZONE
BEGIN:VEVENT
DTSTART;TZID=Europe/Helsinki:20221109T110000
DTEND;TZID=Europe/Helsinki:20221109T110000
DTSTAMP:20260422T113048
CREATED:20221028T063439Z
LAST-MODIFIED:20221028T063439Z
UID:12446-1667991600-1667991600@vmbg.lt
SUMMARY:RKC karjeros konsultanto paskaita  „Savęs pažinimas”. Dalyvauja I c kl.
DESCRIPTION:
URL:https://vmbg.lt/renginiai/rkc-karjeros-konsultanto-paskaita-saves-pazinimas-dalyvauja-i-c-kl/
END:VEVENT
BEGIN:VEVENT
DTSTART;TZID=Europe/Helsinki:20221109T121000
DTEND;TZID=Europe/Helsinki:20221109T121000
DTSTAMP:20260422T113048
CREATED:20221028T063603Z
LAST-MODIFIED:20221028T063603Z
UID:12448-1667995800-1667995800@vmbg.lt
SUMMARY:RKC karjeros konsultanto paskaita  „Savęs pažinimas”. Dalyvauja I d
DESCRIPTION:
URL:https://vmbg.lt/renginiai/rkc-karjeros-konsultanto-paskaita-saves-pazinimas-dalyvauja-i-d/
END:VEVENT
END:VCALENDAR