BEGIN:VCALENDAR
VERSION:2.0
PRODID:-//Mykolo Biržiškos gimnazija - ECPv5.4.0.1//NONSGML v1.0//EN
CALSCALE:GREGORIAN
METHOD:PUBLISH
X-WR-CALNAME:Mykolo Biržiškos gimnazija
X-ORIGINAL-URL:https://vmbg.lt
X-WR-CALDESC:Events for Mykolo Biržiškos gimnazija
BEGIN:VTIMEZONE
TZID:Europe/Helsinki
BEGIN:DAYLIGHT
TZOFFSETFROM:+0200
TZOFFSETTO:+0300
TZNAME:EEST
DTSTART:20220327T010000
END:DAYLIGHT
BEGIN:STANDARD
TZOFFSETFROM:+0300
TZOFFSETTO:+0200
TZNAME:EET
DTSTART:20221030T010000
END:STANDARD
END:VTIMEZONE
BEGIN:VEVENT
DTSTART;VALUE=DATE:20221114
DTEND;VALUE=DATE:20221115
DTSTAMP:20260422T033301
CREATED:20221028T064640Z
LAST-MODIFIED:20221028T064640Z
UID:12460-1668384000-1668470399@vmbg.lt
SUMMARY:Lietuvos mokinių kūrybinių darbų konkursas „Kas man yra lietuvių kalba“
DESCRIPTION:
URL:https://vmbg.lt/renginiai/lietuvos-mokiniu-kurybiniu-darbu-konkursas-kas-man-yra-lietuviu-kalba/
END:VEVENT
BEGIN:VEVENT
DTSTART;TZID=Europe/Helsinki:20221114T121000
DTEND;TZID=Europe/Helsinki:20221114T121000
DTSTAMP:20260422T033301
CREATED:20221028T064748Z
LAST-MODIFIED:20221028T064748Z
UID:12462-1668427800-1668427800@vmbg.lt
SUMMARY:RKC karjeros konsultanto paskaita  „Savęs pažinimas”. Dalyvauja I g kl.
DESCRIPTION:
URL:https://vmbg.lt/renginiai/rkc-karjeros-konsultanto-paskaita-saves-pazinimas-dalyvauja-i-g-kl/
END:VEVENT
BEGIN:VEVENT
DTSTART;TZID=Europe/Helsinki:20221114T130500
DTEND;TZID=Europe/Helsinki:20221114T130500
DTSTAMP:20260422T033301
CREATED:20221028T064833Z
LAST-MODIFIED:20221028T064833Z
UID:12465-1668431100-1668431100@vmbg.lt
SUMMARY:RKC karjeros konsultanto paskaita  „Savęs pažinimas”. Dalyvauja I f kl.
DESCRIPTION:
URL:https://vmbg.lt/renginiai/rkc-karjeros-konsultanto-paskaita-saves-pazinimas-dalyvauja-i-f-kl/
END:VEVENT
END:VCALENDAR