BEGIN:VCALENDAR
VERSION:2.0
PRODID:-//Mykolo Biržiškos gimnazija - ECPv5.4.0.1//NONSGML v1.0//EN
CALSCALE:GREGORIAN
METHOD:PUBLISH
X-WR-CALNAME:Mykolo Biržiškos gimnazija
X-ORIGINAL-URL:https://vmbg.lt
X-WR-CALDESC:Events for Mykolo Biržiškos gimnazija
BEGIN:VTIMEZONE
TZID:Europe/Helsinki
BEGIN:DAYLIGHT
TZOFFSETFROM:+0200
TZOFFSETTO:+0300
TZNAME:EEST
DTSTART:20220327T010000
END:DAYLIGHT
BEGIN:STANDARD
TZOFFSETFROM:+0300
TZOFFSETTO:+0200
TZNAME:EET
DTSTART:20221030T010000
END:STANDARD
END:VTIMEZONE
BEGIN:VEVENT
DTSTART;TZID=Europe/Helsinki:20221118T180000
DTEND;TZID=Europe/Helsinki:20221118T210000
DTSTAMP:20260422T002939
CREATED:20221108T085034Z
LAST-MODIFIED:20221110T104147Z
UID:12514-1668794400-1668805200@vmbg.lt
SUMMARY:Vilniaus Mykolo Biržiškos gimnazijos jubiliejaus vakaras
DESCRIPTION:
URL:https://vmbg.lt/renginiai/vilniaus-mykolo-birziskos-gimnazijos-jubiliejaus-vakaras/
END:VEVENT
END:VCALENDAR