BEGIN:VCALENDAR
VERSION:2.0
PRODID:-//Mykolo Biržiškos gimnazija - ECPv5.4.0.1//NONSGML v1.0//EN
CALSCALE:GREGORIAN
METHOD:PUBLISH
X-WR-CALNAME:Mykolo Biržiškos gimnazija
X-ORIGINAL-URL:https://vmbg.lt
X-WR-CALDESC:Events for Mykolo Biržiškos gimnazija
BEGIN:VTIMEZONE
TZID:Europe/Helsinki
BEGIN:DAYLIGHT
TZOFFSETFROM:+0200
TZOFFSETTO:+0300
TZNAME:EEST
DTSTART:20220327T010000
END:DAYLIGHT
BEGIN:STANDARD
TZOFFSETFROM:+0300
TZOFFSETTO:+0200
TZNAME:EET
DTSTART:20221030T010000
END:STANDARD
END:VTIMEZONE
BEGIN:VEVENT
DTSTART;TZID=Europe/Helsinki:20221122T080000
DTEND;TZID=Europe/Helsinki:20221122T094000
DTSTAMP:20260422T064138
CREATED:20221028T070335Z
LAST-MODIFIED:20221028T070335Z
UID:12485-1669104000-1669110000@vmbg.lt
SUMMARY:Lietuvos mokinių matematikos olimpiados mokyklinis etapas
DESCRIPTION:
URL:https://vmbg.lt/renginiai/lietuvos-mokiniu-matematikos-olimpiados-mokyklinis-etapas/
END:VEVENT
BEGIN:VEVENT
DTSTART;TZID=Europe/Helsinki:20221122T085500
DTEND;TZID=Europe/Helsinki:20221122T085500
DTSTAMP:20260422T064138
CREATED:20221028T070646Z
LAST-MODIFIED:20221028T070646Z
UID:12489-1669107300-1669107300@vmbg.lt
SUMMARY:VšĮ Šeškinės poliklinikos organizuojama paskaita:„ Pasitikėjimo savimi stiprinimas: savęs vertinimo lygiai\, savimi pasitikinčio žmogaus bruožai“. Dalyvauja IV a ir IV d kl.
DESCRIPTION:
URL:https://vmbg.lt/renginiai/vsi-seskines-poliklinikos-organizuojama-paskaita-pasitikejimo-savimi-stiprinimas-saves-vertinimo-lygiai-savimi-pasitikincio-zmogaus-bruozai-dalyvauja-iv-a-ir-iv-d-kl/
END:VEVENT
BEGIN:VEVENT
DTSTART;TZID=Europe/Helsinki:20221122T103500
DTEND;TZID=Europe/Helsinki:20221122T103500
DTSTAMP:20260422T064138
CREATED:20221028T070525Z
LAST-MODIFIED:20221028T070525Z
UID:12487-1669113300-1669113300@vmbg.lt
SUMMARY:VšĮ Šeškinės poliklinikos organizuojama paskaita: \,\,Stresas ir jo valdymas: kas yra stresas ir koks yra streso veikimo mechanizmas; atsipalaidavimo\, rūpinimosi savimi būdai“. Dalyvauja IV e kl.
DESCRIPTION:
URL:https://vmbg.lt/renginiai/vsi-seskines-poliklinikos-organizuojama-paskaita-stresas-ir-jo-valdymas-kas-yra-stresas-ir-koks-yra-streso-veikimo-mechanizmas-atsipalaidavimo-rupinimosi-savimi-budai-dalyvauja-iv-e-kl/
END:VEVENT
END:VCALENDAR