BEGIN:VCALENDAR
VERSION:2.0
PRODID:-//Mykolo Biržiškos gimnazija - ECPv5.4.0.1//NONSGML v1.0//EN
CALSCALE:GREGORIAN
METHOD:PUBLISH
X-WR-CALNAME:Mykolo Biržiškos gimnazija
X-ORIGINAL-URL:https://vmbg.lt
X-WR-CALDESC:Events for Mykolo Biržiškos gimnazija
BEGIN:VTIMEZONE
TZID:Europe/Helsinki
BEGIN:DAYLIGHT
TZOFFSETFROM:+0200
TZOFFSETTO:+0300
TZNAME:EEST
DTSTART:20220327T010000
END:DAYLIGHT
BEGIN:STANDARD
TZOFFSETFROM:+0300
TZOFFSETTO:+0200
TZNAME:EET
DTSTART:20221030T010000
END:STANDARD
END:VTIMEZONE
BEGIN:VEVENT
DTSTART;TZID=Europe/Helsinki:20221123T080000
DTEND;TZID=Europe/Helsinki:20221123T095000
DTSTAMP:20260422T081441
CREATED:20221028T070736Z
LAST-MODIFIED:20221028T070736Z
UID:12491-1669190400-1669197000@vmbg.lt
SUMMARY:IV klasių mokinių matematikos patikrinamasis darbas
DESCRIPTION:
URL:https://vmbg.lt/renginiai/iv-klasiu-mokiniu-matematikos-patikrinamasis-darbas/
END:VEVENT
BEGIN:VEVENT
DTSTART;TZID=Europe/Helsinki:20221123T130000
DTEND;TZID=Europe/Helsinki:20221123T130000
DTSTAMP:20260422T081441
CREATED:20221028T070810Z
LAST-MODIFIED:20221028T070847Z
UID:12493-1669208400-1669208400@vmbg.lt
SUMMARY:II–III užsienio (rusų\, vokiečių\, prancūzų) kalbų respublikinė praktinė konferencijoje „Tikslų pradedu siekti šiandien“
DESCRIPTION:
URL:https://vmbg.lt/renginiai/ii-iii-uzsienio-rusu-vokieciu-prancuzu-kalbu-respublikine-praktine-konferencijoje-tikslu-pradedu-siekti-siandien/
END:VEVENT
BEGIN:VEVENT
DTSTART;TZID=Europe/Helsinki:20221123T150000
DTEND;TZID=Europe/Helsinki:20221123T150000
DTSTAMP:20260422T081441
CREATED:20221028T071056Z
LAST-MODIFIED:20221028T071056Z
UID:12495-1669215600-1669215600@vmbg.lt
SUMMARY:VšĮ Šeškinės poliklinikos organizuojama paskaita: \,\,Stresas ir jo valdymas: kas yra stresas ir koks yra streso veikimo mechanizmas; atsipalaidavimo\, rūpinimosi savimi būdai“. Dalyvauja II d kl.
DESCRIPTION:
URL:https://vmbg.lt/renginiai/vsi-seskines-poliklinikos-organizuojama-paskaita-stresas-ir-jo-valdymas-kas-yra-stresas-ir-koks-yra-streso-veikimo-mechanizmas-atsipalaidavimo-rupinimosi-savimi-budai-dalyvauja-ii-d-kl/
END:VEVENT
END:VCALENDAR