BEGIN:VCALENDAR
VERSION:2.0
PRODID:-//Mykolo Biržiškos gimnazija - ECPv5.4.0.1//NONSGML v1.0//EN
CALSCALE:GREGORIAN
METHOD:PUBLISH
X-WR-CALNAME:Mykolo Biržiškos gimnazija
X-ORIGINAL-URL:https://vmbg.lt
X-WR-CALDESC:Events for Mykolo Biržiškos gimnazija
BEGIN:VTIMEZONE
TZID:Europe/Helsinki
BEGIN:DAYLIGHT
TZOFFSETFROM:+0200
TZOFFSETTO:+0300
TZNAME:EEST
DTSTART:20220327T010000
END:DAYLIGHT
BEGIN:STANDARD
TZOFFSETFROM:+0300
TZOFFSETTO:+0200
TZNAME:EET
DTSTART:20221030T010000
END:STANDARD
END:VTIMEZONE
BEGIN:VEVENT
DTSTART;TZID=Europe/Helsinki:20221129T140000
DTEND;TZID=Europe/Helsinki:20221129T140000
DTSTAMP:20260422T075126
CREATED:20221028T071426Z
LAST-MODIFIED:20221028T071426Z
UID:12502-1669730400-1669730400@vmbg.lt
SUMMARY:Greito sprendimo uždavinių konkurso II etapas. Žirmūnų gimnazija
DESCRIPTION:
URL:https://vmbg.lt/renginiai/greito-sprendimo-uzdaviniu-konkurso-ii-etapas-zirmunu-gimnazija/
END:VEVENT
END:VCALENDAR