BEGIN:VCALENDAR
VERSION:2.0
PRODID:-//Mykolo Biržiškos gimnazija - ECPv5.4.0.1//NONSGML v1.0//EN
CALSCALE:GREGORIAN
METHOD:PUBLISH
X-WR-CALNAME:Mykolo Biržiškos gimnazija
X-ORIGINAL-URL:https://vmbg.lt
X-WR-CALDESC:Events for Mykolo Biržiškos gimnazija
BEGIN:VTIMEZONE
TZID:Europe/Helsinki
BEGIN:DAYLIGHT
TZOFFSETFROM:+0200
TZOFFSETTO:+0300
TZNAME:EEST
DTSTART:20220327T010000
END:DAYLIGHT
BEGIN:STANDARD
TZOFFSETFROM:+0300
TZOFFSETTO:+0200
TZNAME:EET
DTSTART:20221030T010000
END:STANDARD
END:VTIMEZONE
BEGIN:VEVENT
DTSTART;TZID=Europe/Helsinki:20221130T090000
DTEND;TZID=Europe/Helsinki:20221130T130000
DTSTAMP:20260422T061633
CREATED:20221028T071706Z
LAST-MODIFIED:20221028T071805Z
UID:12504-1669798800-1669813200@vmbg.lt
SUMMARY:III klasių mokinių lietuvių k. RAŠINYS – patikrinamasis darbas
DESCRIPTION:
URL:https://vmbg.lt/renginiai/iii-klasiu-mokiniu-lietuviu-k-rasinys-patikrinamasis-darbas-3/
END:VEVENT
END:VCALENDAR