BEGIN:VCALENDAR
VERSION:2.0
PRODID:-//Mykolo Biržiškos gimnazija - ECPv5.4.0.1//NONSGML v1.0//EN
CALSCALE:GREGORIAN
METHOD:PUBLISH
X-WR-CALNAME:Mykolo Biržiškos gimnazija
X-ORIGINAL-URL:https://vmbg.lt
X-WR-CALDESC:Events for Mykolo Biržiškos gimnazija
BEGIN:VTIMEZONE
TZID:Europe/Helsinki
BEGIN:DAYLIGHT
TZOFFSETFROM:+0200
TZOFFSETTO:+0300
TZNAME:EEST
DTSTART:20220327T010000
END:DAYLIGHT
BEGIN:STANDARD
TZOFFSETFROM:+0300
TZOFFSETTO:+0200
TZNAME:EET
DTSTART:20221030T010000
END:STANDARD
END:VTIMEZONE
BEGIN:VEVENT
DTSTART;VALUE=DATE:20221206
DTEND;VALUE=DATE:20221207
DTSTAMP:20260421T210130
CREATED:20221205T111005Z
LAST-MODIFIED:20221205T111005Z
UID:12618-1670284800-1670371199@vmbg.lt
SUMMARY:Integruota geografijos\, fizikos\, karjeros ugdymo pamoka „Pramonės įtaka aplinkai: ekonominė nauda ar tarša?“. Pamoka vyks UAB „Lietpak“ Čekoniškėse
DESCRIPTION:
URL:https://vmbg.lt/renginiai/integruota-geografijos-fizikos-karjeros-ugdymo-pamoka-pramones-itaka-aplinkai-ekonomine-nauda-ar-tarsa-pamoka-vyks-uab-lietpak-cekoniskese/
END:VEVENT
BEGIN:VEVENT
DTSTART;TZID=Europe/Helsinki:20221206T080000
DTEND;TZID=Europe/Helsinki:20221206T094000
DTSTAMP:20260421T210130
CREATED:20221205T110521Z
LAST-MODIFIED:20221205T110552Z
UID:12611-1670313600-1670319600@vmbg.lt
SUMMARY:Lietuvos mokinių fizikos olimpiados mokyklos etapas
DESCRIPTION:
URL:https://vmbg.lt/renginiai/lietuvos-mokiniu-fizikos-olimpiados-mokyklos-etapas/
END:VEVENT
BEGIN:VEVENT
DTSTART;TZID=Europe/Helsinki:20221206T080000
DTEND;TZID=Europe/Helsinki:20221206T084500
DTSTAMP:20260421T210130
CREATED:20221205T110723Z
LAST-MODIFIED:20221205T110723Z
UID:12613-1670313600-1670316300@vmbg.lt
SUMMARY:VšĮ Šeškinės poliklinikos organizuojama paskaita „Pasitikėjimo savimi stiprinimas: savęs vertinimo lygiai\, savimi pasitikinčio žmogaus bruožai.“ IV e
DESCRIPTION:
URL:https://vmbg.lt/renginiai/vsi-seskines-poliklinikos-organizuojama-paskaita-pasitikejimo-savimi-stiprinimas-saves-vertinimo-lygiai-savimi-pasitikincio-zmogaus-bruozai-iv-e/
END:VEVENT
BEGIN:VEVENT
DTSTART;TZID=Europe/Helsinki:20221206T085500
DTEND;TZID=Europe/Helsinki:20221206T094000
DTSTAMP:20260421T210130
CREATED:20221205T111307Z
LAST-MODIFIED:20221205T111307Z
UID:12622-1670316900-1670319600@vmbg.lt
SUMMARY:VšĮ Šeškinės poliklinikos organizuojama paskaita \,\,Stresas ir jo valdymas: kas yra stresas ir koks yra streso veikimo mechanizmas; atsipalaidavimo\, rūpinimosi savimi būdai“. IV d
DESCRIPTION:.
URL:https://vmbg.lt/renginiai/vsi-seskines-poliklinikos-organizuojama-paskaita-stresas-ir-jo-valdymas-kas-yra-stresas-ir-koks-yra-streso-veikimo-mechanizmas-atsipalaidavimo-rupinimosi-savimi-budai-iv-d/
END:VEVENT
BEGIN:VEVENT
DTSTART;TZID=Europe/Helsinki:20221206T095000
DTEND;TZID=Europe/Helsinki:20221206T103500
DTSTAMP:20260421T210130
CREATED:20221205T110848Z
LAST-MODIFIED:20221205T110916Z
UID:12615-1670320200-1670322900@vmbg.lt
SUMMARY:VšĮ Šeškinės poliklinikos organizuojama paskaita „Pasitikėjimo savimi stiprinimas: savęs vertinimo lygiai\, savimi pasitikinčio žmogaus bruožai.“ I c
DESCRIPTION:
URL:https://vmbg.lt/renginiai/vsi-seskines-poliklinikos-organizuojama-paskaita-pasitikejimo-savimi-stiprinimas-saves-vertinimo-lygiai-savimi-pasitikincio-zmogaus-bruozai-i/
END:VEVENT
BEGIN:VEVENT
DTSTART;TZID=Europe/Helsinki:20221206T140000
DTEND;TZID=Europe/Helsinki:20221206T140000
DTSTAMP:20260421T210130
CREATED:20221205T111105Z
LAST-MODIFIED:20221205T111105Z
UID:12620-1670335200-1670335200@vmbg.lt
SUMMARY:Tarptautinio vizualiųjų menų konkurso nugalėtojų apdovanojimo renginys. Čekijos Respublikos ambasada
DESCRIPTION:
URL:https://vmbg.lt/renginiai/tarptautinio-vizualiuju-menu-konkurso-nugaletoju-apdovanojimo-renginys-cekijos-respublikos-ambasada/
END:VEVENT
END:VCALENDAR