BEGIN:VCALENDAR
VERSION:2.0
PRODID:-//Mykolo Biržiškos gimnazija - ECPv5.4.0.1//NONSGML v1.0//EN
CALSCALE:GREGORIAN
METHOD:PUBLISH
X-WR-CALNAME:Mykolo Biržiškos gimnazija
X-ORIGINAL-URL:https://vmbg.lt
X-WR-CALDESC:Events for Mykolo Biržiškos gimnazija
BEGIN:VTIMEZONE
TZID:Europe/Helsinki
BEGIN:DAYLIGHT
TZOFFSETFROM:+0200
TZOFFSETTO:+0300
TZNAME:EEST
DTSTART:20220327T010000
END:DAYLIGHT
BEGIN:STANDARD
TZOFFSETFROM:+0300
TZOFFSETTO:+0200
TZNAME:EET
DTSTART:20221030T010000
END:STANDARD
END:VTIMEZONE
BEGIN:VEVENT
DTSTART;VALUE=DATE:20221212
DTEND;VALUE=DATE:20221217
DTSTAMP:20260422T093207
CREATED:20221205T113016Z
LAST-MODIFIED:20221205T113016Z
UID:12642-1670803200-1671235199@vmbg.lt
SUMMARY:Erasmus+ projekto "Our European Book Club" virtualus šalių partnerių mokytojų ir mokinių susitikimas ir veiklos
DESCRIPTION:
URL:https://vmbg.lt/renginiai/erasmus-projekto-our-european-book-club-virtualus-saliu-partneriu-mokytoju-ir-mokiniu-susitikimas-ir-veiklos/
END:VEVENT
BEGIN:VEVENT
DTSTART;TZID=Europe/Helsinki:20221214T121000
DTEND;TZID=Europe/Helsinki:20221214T125500
DTSTAMP:20260422T093207
CREATED:20221205T113325Z
LAST-MODIFIED:20221205T113325Z
UID:12648-1671019800-1671022500@vmbg.lt
SUMMARY:Populiariojo mokslo paskaita "Energetika: sintezės jėgainių pagrindai ir perspektyvos" Lektorius Arnas Volčokas\,  fizikos doktorantas Šveicarijos Federaliniame Technologijų instituto Lozanoje ir dirbantis sintezės tyrimų srityje
DESCRIPTION:
URL:https://vmbg.lt/renginiai/populiariojo-mokslo-paskaita-energetika-sintezes-jegainiu-pagrindai-ir-perspektyvos-lektorius-arnas-volcokas-fizikos-doktorantas-sveicarijos-federaliniame-technologiju-instituto-lozanoje-ir-dir/
END:VEVENT
END:VCALENDAR