BEGIN:VCALENDAR
VERSION:2.0
PRODID:-//Mykolo Biržiškos gimnazija - ECPv5.4.0.1//NONSGML v1.0//EN
CALSCALE:GREGORIAN
METHOD:PUBLISH
X-WR-CALNAME:Mykolo Biržiškos gimnazija
X-ORIGINAL-URL:https://vmbg.lt
X-WR-CALDESC:Events for Mykolo Biržiškos gimnazija
BEGIN:VTIMEZONE
TZID:Europe/Helsinki
BEGIN:DAYLIGHT
TZOFFSETFROM:+0200
TZOFFSETTO:+0300
TZNAME:EEST
DTSTART:20220327T010000
END:DAYLIGHT
BEGIN:STANDARD
TZOFFSETFROM:+0300
TZOFFSETTO:+0200
TZNAME:EET
DTSTART:20221030T010000
END:STANDARD
END:VTIMEZONE
BEGIN:VEVENT
DTSTART;TZID=Europe/Helsinki:20221221T103500
DTEND;TZID=Europe/Helsinki:20221221T103500
DTSTAMP:20260422T205027
CREATED:20221205T114519Z
LAST-MODIFIED:20221205T114519Z
UID:12656-1671618900-1671618900@vmbg.lt
SUMMARY:Kalėdinių giesmių pertrauka
DESCRIPTION:
URL:https://vmbg.lt/renginiai/kalediniu-giesmiu-pertrauka/
END:VEVENT
BEGIN:VEVENT
DTSTART;TZID=Europe/Helsinki:20221221T130500
DTEND;TZID=Europe/Helsinki:20221221T130500
DTSTAMP:20260422T205027
CREATED:20221205T114611Z
LAST-MODIFIED:20221205T114611Z
UID:12658-1671627900-1671627900@vmbg.lt
SUMMARY:Muzikos valanda  „Žiemos išdaigos“
DESCRIPTION:
URL:https://vmbg.lt/renginiai/muzikos-valanda-ziemos-isdaigos/
END:VEVENT
END:VCALENDAR