BEGIN:VCALENDAR
VERSION:2.0
PRODID:-//Mykolo Biržiškos gimnazija - ECPv5.4.0.1//NONSGML v1.0//EN
CALSCALE:GREGORIAN
METHOD:PUBLISH
X-WR-CALNAME:Mykolo Biržiškos gimnazija
X-ORIGINAL-URL:https://vmbg.lt
X-WR-CALDESC:Events for Mykolo Biržiškos gimnazija
BEGIN:VTIMEZONE
TZID:Europe/Helsinki
BEGIN:DAYLIGHT
TZOFFSETFROM:+0200
TZOFFSETTO:+0300
TZNAME:EEST
DTSTART:20230326T010000
END:DAYLIGHT
BEGIN:STANDARD
TZOFFSETFROM:+0300
TZOFFSETTO:+0200
TZNAME:EET
DTSTART:20231029T010000
END:STANDARD
END:VTIMEZONE
BEGIN:VEVENT
DTSTART;TZID=Europe/Helsinki:20230111T140000
DTEND;TZID=Europe/Helsinki:20230111T140000
DTSTAMP:20260423T043155
CREATED:20230108T180556Z
LAST-MODIFIED:20230108T180556Z
UID:12768-1673445600-1673445600@vmbg.lt
SUMMARY:SEB Ambasadorių programa mokiniams.  Paskaita „Finansinio raštingumo ABC“
DESCRIPTION:
URL:https://vmbg.lt/renginiai/seb-ambasadoriu-programa-mokiniams-paskaita-finansinio-rastingumo-abc/
END:VEVENT
END:VCALENDAR