BEGIN:VCALENDAR
VERSION:2.0
PRODID:-//Mykolo Biržiškos gimnazija - ECPv5.4.0.1//NONSGML v1.0//EN
CALSCALE:GREGORIAN
METHOD:PUBLISH
X-WR-CALNAME:Mykolo Biržiškos gimnazija
X-ORIGINAL-URL:https://vmbg.lt
X-WR-CALDESC:Events for Mykolo Biržiškos gimnazija
BEGIN:VTIMEZONE
TZID:Europe/Helsinki
BEGIN:DAYLIGHT
TZOFFSETFROM:+0200
TZOFFSETTO:+0300
TZNAME:EEST
DTSTART:20230326T010000
END:DAYLIGHT
BEGIN:STANDARD
TZOFFSETFROM:+0300
TZOFFSETTO:+0200
TZNAME:EET
DTSTART:20231029T010000
END:STANDARD
END:VTIMEZONE
BEGIN:VEVENT
DTSTART;TZID=Europe/Helsinki:20230113T080000
DTEND;TZID=Europe/Helsinki:20230113T081000
DTSTAMP:20260423T012738
CREATED:20230108T180637Z
LAST-MODIFIED:20230108T180637Z
UID:12770-1673596800-1673597400@vmbg.lt
SUMMARY:„Atmintis gyva\, nes liudija“
DESCRIPTION:
URL:https://vmbg.lt/renginiai/atmintis-gyva-nes-liudija-2/
END:VEVENT
BEGIN:VEVENT
DTSTART;TZID=Europe/Helsinki:20230113T095000
DTEND;TZID=Europe/Helsinki:20230113T095000
DTSTAMP:20260423T012738
CREATED:20230108T180713Z
LAST-MODIFIED:20230108T180713Z
UID:12772-1673603400-1673603400@vmbg.lt
SUMMARY:Sausio 13-osios – Laisvės gynėjų dienos minėjimas
DESCRIPTION:
URL:https://vmbg.lt/renginiai/sausio-13-osios-laisves-gyneju-dienos-minejimas/
END:VEVENT
END:VCALENDAR