BEGIN:VCALENDAR
VERSION:2.0
PRODID:-//Mykolo Biržiškos gimnazija - ECPv5.4.0.1//NONSGML v1.0//EN
CALSCALE:GREGORIAN
METHOD:PUBLISH
X-WR-CALNAME:Mykolo Biržiškos gimnazija
X-ORIGINAL-URL:https://vmbg.lt
X-WR-CALDESC:Events for Mykolo Biržiškos gimnazija
BEGIN:VTIMEZONE
TZID:Europe/Helsinki
BEGIN:DAYLIGHT
TZOFFSETFROM:+0200
TZOFFSETTO:+0300
TZNAME:EEST
DTSTART:20230326T010000
END:DAYLIGHT
BEGIN:STANDARD
TZOFFSETFROM:+0300
TZOFFSETTO:+0200
TZNAME:EET
DTSTART:20231029T010000
END:STANDARD
END:VTIMEZONE
BEGIN:VEVENT
DTSTART;VALUE=DATE:20230124
DTEND;VALUE=DATE:20230125
DTSTAMP:20260422T075943
CREATED:20230117T081438Z
LAST-MODIFIED:20230117T081438Z
UID:12812-1674518400-1674604799@vmbg.lt
SUMMARY:Gimnazijos mokinių koliažų paroda „Žmonės ir gėlės“. Vilniaus V. Sirokomlės gimnazija
DESCRIPTION:
URL:https://vmbg.lt/renginiai/gimnazijos-mokiniu-koliazu-paroda-zmones-ir-geles-vilniaus-v-sirokomles-gimnazija/
END:VEVENT
BEGIN:VEVENT
DTSTART;TZID=Europe/Helsinki:20230124T090000
DTEND;TZID=Europe/Helsinki:20230124T130000
DTSTAMP:20260422T075943
CREATED:20230117T081300Z
LAST-MODIFIED:20230117T081317Z
UID:12809-1674550800-1674565200@vmbg.lt
SUMMARY:Vilniaus miesto lietuvių kalbos ir literatūros olimpiada. Vilniaus Abraomo Kulviečio gimnazija
DESCRIPTION:
URL:https://vmbg.lt/renginiai/vilniaus-miesto-lietuviu-kalbos-ir-literaturos-olimpiada/
END:VEVENT
END:VCALENDAR