BEGIN:VCALENDAR
VERSION:2.0
PRODID:-//Mykolo Biržiškos gimnazija - ECPv5.4.0.1//NONSGML v1.0//EN
CALSCALE:GREGORIAN
METHOD:PUBLISH
X-WR-CALNAME:Mykolo Biržiškos gimnazija
X-ORIGINAL-URL:https://vmbg.lt
X-WR-CALDESC:Events for Mykolo Biržiškos gimnazija
BEGIN:VTIMEZONE
TZID:Europe/Helsinki
BEGIN:DAYLIGHT
TZOFFSETFROM:+0200
TZOFFSETTO:+0300
TZNAME:EEST
DTSTART:20230326T010000
END:DAYLIGHT
BEGIN:STANDARD
TZOFFSETFROM:+0300
TZOFFSETTO:+0200
TZNAME:EET
DTSTART:20231029T010000
END:STANDARD
END:VTIMEZONE
BEGIN:VEVENT
DTSTART;TZID=Europe/Helsinki:20230127T110000
DTEND;TZID=Europe/Helsinki:20230127T110000
DTSTAMP:20260422T033041
CREATED:20230118T064517Z
LAST-MODIFIED:20230118T064655Z
UID:12820-1674817200-1674817200@vmbg.lt
SUMMARY:Vilniaus miesto gimnazijų viktorina\, skirta Vilniaus 700- ajam jubiliejui paminėti
DESCRIPTION:
URL:https://vmbg.lt/renginiai/vilniaus-miesto-gimnaziju-viktorina-skirta-vilniaus-700-ajam-jubiliejui-pamineti/
END:VEVENT
END:VCALENDAR