BEGIN:VCALENDAR
VERSION:2.0
PRODID:-//Mykolo Biržiškos gimnazija - ECPv5.4.0.1//NONSGML v1.0//EN
CALSCALE:GREGORIAN
METHOD:PUBLISH
X-WR-CALNAME:Mykolo Biržiškos gimnazija
X-ORIGINAL-URL:https://vmbg.lt
X-WR-CALDESC:Events for Mykolo Biržiškos gimnazija
BEGIN:VTIMEZONE
TZID:Europe/Helsinki
BEGIN:DAYLIGHT
TZOFFSETFROM:+0200
TZOFFSETTO:+0300
TZNAME:EEST
DTSTART:20230326T010000
END:DAYLIGHT
BEGIN:STANDARD
TZOFFSETFROM:+0300
TZOFFSETTO:+0200
TZNAME:EET
DTSTART:20231029T010000
END:STANDARD
END:VTIMEZONE
BEGIN:VEVENT
DTSTART;VALUE=DATE:20230130
DTEND;VALUE=DATE:20230131
DTSTAMP:20260421T224155
CREATED:20230117T081647Z
LAST-MODIFIED:20230117T081647Z
UID:12814-1675036800-1675123199@vmbg.lt
SUMMARY:Vilniaus miesto mokinių ir mokytojų miniatiūrų paroda „Vilniaus šventės ir kasdiena\, Vilniaus įkūrimo 700-ųjų metų jubiliejus“. Vilniaus miesto savivaldybė
DESCRIPTION:
URL:https://vmbg.lt/renginiai/vilniaus-miesto-mokiniu-ir-mokytoju-miniatiuru-paroda-vilniaus-sventes-ir-kasdiena-vilniaus-ikurimo-700-uju-metu-jubiliejus-vilniaus-miesto-savivaldybe/
END:VEVENT
BEGIN:VEVENT
DTSTART;TZID=Europe/Helsinki:20230130T150000
DTEND;TZID=Europe/Helsinki:20230130T150000
DTSTAMP:20260421T224155
CREATED:20230117T081738Z
LAST-MODIFIED:20230117T081738Z
UID:12816-1675090800-1675090800@vmbg.lt
SUMMARY:IV klasių mokinių projekto pristatymas „Nuo aštuonių“
DESCRIPTION:
URL:https://vmbg.lt/renginiai/iv-klasiu-mokiniu-projekto-pristatymas-nuo-astuoniu/
END:VEVENT
END:VCALENDAR