BEGIN:VCALENDAR
VERSION:2.0
PRODID:-//Mykolo Biržiškos gimnazija - ECPv5.4.0.1//NONSGML v1.0//EN
CALSCALE:GREGORIAN
METHOD:PUBLISH
X-WR-CALNAME:Mykolo Biržiškos gimnazija
X-ORIGINAL-URL:https://vmbg.lt
X-WR-CALDESC:Events for Mykolo Biržiškos gimnazija
BEGIN:VTIMEZONE
TZID:Europe/Helsinki
BEGIN:DAYLIGHT
TZOFFSETFROM:+0200
TZOFFSETTO:+0300
TZNAME:EEST
DTSTART:20230326T010000
END:DAYLIGHT
BEGIN:STANDARD
TZOFFSETFROM:+0300
TZOFFSETTO:+0200
TZNAME:EET
DTSTART:20231029T010000
END:STANDARD
END:VTIMEZONE
BEGIN:VEVENT
DTSTART;TZID=Europe/Helsinki:20230131T090000
DTEND;TZID=Europe/Helsinki:20230131T090000
DTSTAMP:20260421T210808
CREATED:20230108T181108Z
LAST-MODIFIED:20230108T181108Z
UID:12782-1675155600-1675155600@vmbg.lt
SUMMARY:Vilniaus miesto 9 kl. mokinių anglų kalbos konkursas
DESCRIPTION:
URL:https://vmbg.lt/renginiai/vilniaus-miesto-9-kl-mokiniu-anglu-kalbos-konkursas/
END:VEVENT
BEGIN:VEVENT
DTSTART;TZID=Europe/Helsinki:20230131T150000
DTEND;TZID=Europe/Helsinki:20230131T150000
DTSTAMP:20260421T210808
CREATED:20230117T081841Z
LAST-MODIFIED:20230117T082100Z
UID:12818-1675177200-1675177200@vmbg.lt
SUMMARY:Mokinių darbų parodos  „Nuo 8.00“ pristatymas
DESCRIPTION:
URL:https://vmbg.lt/renginiai/mokiniu-darbu-parodos-nuo-8-00-pristatymas/
END:VEVENT
END:VCALENDAR