BEGIN:VCALENDAR
VERSION:2.0
PRODID:-//Mykolo Biržiškos gimnazija - ECPv5.4.0.1//NONSGML v1.0//EN
CALSCALE:GREGORIAN
METHOD:PUBLISH
X-WR-CALNAME:Mykolo Biržiškos gimnazija
X-ORIGINAL-URL:https://vmbg.lt
X-WR-CALDESC:Events for Mykolo Biržiškos gimnazija
BEGIN:VTIMEZONE
TZID:Europe/Helsinki
BEGIN:DAYLIGHT
TZOFFSETFROM:+0200
TZOFFSETTO:+0300
TZNAME:EEST
DTSTART:20230326T010000
END:DAYLIGHT
BEGIN:STANDARD
TZOFFSETFROM:+0300
TZOFFSETTO:+0200
TZNAME:EET
DTSTART:20231029T010000
END:STANDARD
END:VTIMEZONE
BEGIN:VEVENT
DTSTART;VALUE=DATE:20230202
DTEND;VALUE=DATE:20230208
DTSTAMP:20260421T174940
CREATED:20230131T082808Z
LAST-MODIFIED:20230131T082808Z
UID:12929-1675296000-1675814399@vmbg.lt
SUMMARY:I klasių lietuvių kalbos projektas „Aš – Lietuvos pilietis“. Koliažų\, plakatų ekspozicijos I ar II aukšto fojė
DESCRIPTION:
URL:https://vmbg.lt/renginiai/i-klasiu-lietuviu-kalbos-projektas-as-lietuvos-pilietis-koliazu-plakatu-ekspozicijos-i-ar-ii-auksto-foje/
END:VEVENT
BEGIN:VEVENT
DTSTART;TZID=Europe/Helsinki:20230202T090000
DTEND;TZID=Europe/Helsinki:20230202T140000
DTSTAMP:20260421T174940
CREATED:20230131T081710Z
LAST-MODIFIED:20230131T081710Z
UID:12915-1675328400-1675346400@vmbg.lt
SUMMARY:Lietuvos mokinių 34-osios informatikos olimpiados respublikinio etapo I dalis
DESCRIPTION:
URL:https://vmbg.lt/renginiai/lietuvos-mokiniu-34-osios-informatikos-olimpiados-respublikinio-etapo-i-dalis/
END:VEVENT
BEGIN:VEVENT
DTSTART;TZID=Europe/Helsinki:20230202T100000
DTEND;TZID=Europe/Helsinki:20230202T100000
DTSTAMP:20260421T174940
CREATED:20230131T081537Z
LAST-MODIFIED:20230131T081537Z
UID:12913-1675332000-1675332000@vmbg.lt
SUMMARY:Vilniaus miesto 9–12 klasių mokinių  vokiečių kalbos olimpiada
DESCRIPTION:
URL:https://vmbg.lt/renginiai/vilniaus-miesto-9-12-klasiu-mokiniu-vokieciu-kalbos-olimpiada/
END:VEVENT
BEGIN:VEVENT
DTSTART;TZID=Europe/Helsinki:20230202T130500
DTEND;TZID=Europe/Helsinki:20230202T130500
DTSTAMP:20260421T174940
CREATED:20230131T081802Z
LAST-MODIFIED:20230131T081802Z
UID:12917-1675343100-1675343100@vmbg.lt
SUMMARY:Studijų pristatymas (pavadinimas tikslinamas)
DESCRIPTION:
URL:https://vmbg.lt/renginiai/studiju-pristatymas-pavadinimas-tikslinamas/
END:VEVENT
END:VCALENDAR