BEGIN:VCALENDAR
VERSION:2.0
PRODID:-//Mykolo Biržiškos gimnazija - ECPv5.4.0.1//NONSGML v1.0//EN
CALSCALE:GREGORIAN
METHOD:PUBLISH
X-WR-CALNAME:Mykolo Biržiškos gimnazija
X-ORIGINAL-URL:https://vmbg.lt
X-WR-CALDESC:Events for Mykolo Biržiškos gimnazija
BEGIN:VTIMEZONE
TZID:Europe/Helsinki
BEGIN:DAYLIGHT
TZOFFSETFROM:+0200
TZOFFSETTO:+0300
TZNAME:EEST
DTSTART:20230326T010000
END:DAYLIGHT
BEGIN:STANDARD
TZOFFSETFROM:+0300
TZOFFSETTO:+0200
TZNAME:EET
DTSTART:20231029T010000
END:STANDARD
END:VTIMEZONE
BEGIN:VEVENT
DTSTART;VALUE=DATE:20230208
DTEND;VALUE=DATE:20230209
DTSTAMP:20260421T192842
CREATED:20230131T082929Z
LAST-MODIFIED:20230131T082929Z
UID:12931-1675814400-1675900799@vmbg.lt
SUMMARY:Tarptautinis vizualiųjų menų konkursas Lidice 2023 Čekijoje. Dalyvauja  I–II kl. mokiniai
DESCRIPTION:
URL:https://vmbg.lt/renginiai/tarptautinis-vizualiuju-menu-konkursas-lidice-2023-cekijoje-dalyvauja-i-ii-kl-mokiniai/
END:VEVENT
BEGIN:VEVENT
DTSTART;TZID=Europe/Helsinki:20230208T120000
DTEND;TZID=Europe/Helsinki:20230208T120000
DTSTAMP:20260421T192842
CREATED:20230131T083013Z
LAST-MODIFIED:20230131T083013Z
UID:12933-1675857600-1675857600@vmbg.lt
SUMMARY:SKAITOVŲ KONKURSAS (gimnazijos etapas)
DESCRIPTION:
URL:https://vmbg.lt/renginiai/skaitovu-konkursas-gimnazijos-etapas/
END:VEVENT
END:VCALENDAR