BEGIN:VCALENDAR
VERSION:2.0
PRODID:-//Mykolo Biržiškos gimnazija - ECPv5.4.0.1//NONSGML v1.0//EN
CALSCALE:GREGORIAN
METHOD:PUBLISH
X-WR-CALNAME:Mykolo Biržiškos gimnazija
X-ORIGINAL-URL:https://vmbg.lt
X-WR-CALDESC:Events for Mykolo Biržiškos gimnazija
BEGIN:VTIMEZONE
TZID:Europe/Helsinki
BEGIN:DAYLIGHT
TZOFFSETFROM:+0200
TZOFFSETTO:+0300
TZNAME:EEST
DTSTART:20230326T010000
END:DAYLIGHT
BEGIN:STANDARD
TZOFFSETFROM:+0300
TZOFFSETTO:+0200
TZNAME:EET
DTSTART:20231029T010000
END:STANDARD
END:VTIMEZONE
BEGIN:VEVENT
DTSTART;TZID=Europe/Helsinki:20230209T080000
DTEND;TZID=Europe/Helsinki:20230209T094000
DTSTAMP:20260421T175211
CREATED:20230131T083104Z
LAST-MODIFIED:20230131T083104Z
UID:12935-1675929600-1675935600@vmbg.lt
SUMMARY:Matematikos patikrinamasis darbas  I klasių mokiniams
DESCRIPTION:
URL:https://vmbg.lt/renginiai/matematikos-patikrinamasis-darbas-i-klasiu-mokiniams-3/
END:VEVENT
BEGIN:VEVENT
DTSTART;TZID=Europe/Helsinki:20230209T090000
DTEND;TZID=Europe/Helsinki:20230209T090000
DTSTAMP:20260421T175211
CREATED:20230131T083201Z
LAST-MODIFIED:20230131T083201Z
UID:12937-1675933200-1675933200@vmbg.lt
SUMMARY:Vilniaus miesto užsienio (rusų) kalbos olimpiada 10–11 kl. Vilniaus Gabijos gimnazija
DESCRIPTION:
URL:https://vmbg.lt/renginiai/vilniaus-miesto-uzsienio-rusu-kalbos-olimpiada-10-11-kl-vilniaus-gabijos-gimnazija/
END:VEVENT
BEGIN:VEVENT
DTSTART;TZID=Europe/Helsinki:20230209T130000
DTEND;TZID=Europe/Helsinki:20230209T130000
DTSTAMP:20260421T175211
CREATED:20230131T083309Z
LAST-MODIFIED:20230131T083309Z
UID:12939-1675947600-1675947600@vmbg.lt
SUMMARY:Sporto šventė Vasario 16-ai paminėti
DESCRIPTION:
URL:https://vmbg.lt/renginiai/sporto-svente-vasario-16-ai-pamineti/
END:VEVENT
BEGIN:VEVENT
DTSTART;TZID=Europe/Helsinki:20230209T140000
DTEND;TZID=Europe/Helsinki:20230209T140000
DTSTAMP:20260421T175211
CREATED:20230131T083340Z
LAST-MODIFIED:20230131T083340Z
UID:12941-1675951200-1675951200@vmbg.lt
SUMMARY:Naktigonė – mokinių koncertas
DESCRIPTION:
URL:https://vmbg.lt/renginiai/naktigone-mokiniu-koncertas/
END:VEVENT
END:VCALENDAR