BEGIN:VCALENDAR
VERSION:2.0
PRODID:-//Mykolo Biržiškos gimnazija - ECPv5.4.0.1//NONSGML v1.0//EN
CALSCALE:GREGORIAN
METHOD:PUBLISH
X-WR-CALNAME:Mykolo Biržiškos gimnazija
X-ORIGINAL-URL:https://vmbg.lt
X-WR-CALDESC:Events for Mykolo Biržiškos gimnazija
BEGIN:VTIMEZONE
TZID:Europe/Helsinki
BEGIN:DAYLIGHT
TZOFFSETFROM:+0200
TZOFFSETTO:+0300
TZNAME:EEST
DTSTART:20230326T010000
END:DAYLIGHT
BEGIN:STANDARD
TZOFFSETFROM:+0300
TZOFFSETTO:+0200
TZNAME:EET
DTSTART:20231029T010000
END:STANDARD
END:VTIMEZONE
BEGIN:VEVENT
DTSTART;TZID=Europe/Helsinki:20230220T121000
DTEND;TZID=Europe/Helsinki:20230220T121000
DTSTAMP:20260421T223751
CREATED:20230131T084147Z
LAST-MODIFIED:20230131T084147Z
UID:12947-1676895000-1676895000@vmbg.lt
SUMMARY:SEB Ambasadorių programa: paskaita „Investavimo pagrindai“
DESCRIPTION:
URL:https://vmbg.lt/renginiai/seb-ambasadoriu-programa-paskaita-investavimo-pagrindai/
END:VEVENT
END:VCALENDAR