BEGIN:VCALENDAR
VERSION:2.0
PRODID:-//Mykolo Biržiškos gimnazija - ECPv5.4.0.1//NONSGML v1.0//EN
CALSCALE:GREGORIAN
METHOD:PUBLISH
X-WR-CALNAME:Mykolo Biržiškos gimnazija
X-ORIGINAL-URL:https://vmbg.lt
X-WR-CALDESC:Events for Mykolo Biržiškos gimnazija
BEGIN:VTIMEZONE
TZID:Europe/Helsinki
BEGIN:DAYLIGHT
TZOFFSETFROM:+0200
TZOFFSETTO:+0300
TZNAME:EEST
DTSTART:20230326T010000
END:DAYLIGHT
BEGIN:STANDARD
TZOFFSETFROM:+0300
TZOFFSETTO:+0200
TZNAME:EET
DTSTART:20231029T010000
END:STANDARD
END:VTIMEZONE
BEGIN:VEVENT
DTSTART;TZID=Europe/Helsinki:20230221T110000
DTEND;TZID=Europe/Helsinki:20230221T130000
DTSTAMP:20260421T210610
CREATED:20230131T084235Z
LAST-MODIFIED:20230131T084235Z
UID:12949-1676977200-1676984400@vmbg.lt
SUMMARY:Matematikos patikrinamasis darbas III klasių mokiniams
DESCRIPTION:
URL:https://vmbg.lt/renginiai/matematikos-patikrinamasis-darbas-iii-klasiu-mokiniams-2/
END:VEVENT
END:VCALENDAR