BEGIN:VCALENDAR
VERSION:2.0
PRODID:-//Mykolo Biržiškos gimnazija - ECPv5.4.0.1//NONSGML v1.0//EN
CALSCALE:GREGORIAN
METHOD:PUBLISH
X-WR-CALNAME:Mykolo Biržiškos gimnazija
X-ORIGINAL-URL:https://vmbg.lt
X-WR-CALDESC:Events for Mykolo Biržiškos gimnazija
BEGIN:VTIMEZONE
TZID:Europe/Helsinki
BEGIN:DAYLIGHT
TZOFFSETFROM:+0200
TZOFFSETTO:+0300
TZNAME:EEST
DTSTART:20230326T010000
END:DAYLIGHT
BEGIN:STANDARD
TZOFFSETFROM:+0300
TZOFFSETTO:+0200
TZNAME:EET
DTSTART:20231029T010000
END:STANDARD
END:VTIMEZONE
BEGIN:VEVENT
DTSTART;VALUE=DATE:20230227
DTEND;VALUE=DATE:20230228
DTSTAMP:20260421T222036
CREATED:20230131T090928Z
LAST-MODIFIED:20230131T090928Z
UID:12963-1677456000-1677542399@vmbg.lt
SUMMARY:Mokinių piešinių paroda  „Vilniui – 700“. I aukšto fojė
DESCRIPTION:
URL:https://vmbg.lt/renginiai/mokiniu-piesiniu-paroda-vilniui-700-i-auksto-foje/
END:VEVENT
BEGIN:VEVENT
DTSTART;VALUE=DATE:20230227
DTEND;VALUE=DATE:20230228
DTSTAMP:20260421T222036
CREATED:20230131T091002Z
LAST-MODIFIED:20230131T091002Z
UID:12965-1677456000-1677542399@vmbg.lt
SUMMARY:Nacionalinis mokinių meninės kūrybos darbų konkursas „Kelionė laiku – atgimusi Vilniaus istorija“
DESCRIPTION:
URL:https://vmbg.lt/renginiai/nacionalinis-mokiniu-menines-kurybos-darbu-konkursas-kelione-laiku-atgimusi-vilniaus-istorija-2/
END:VEVENT
END:VCALENDAR