BEGIN:VCALENDAR
VERSION:2.0
PRODID:-//Mykolo Biržiškos gimnazija - ECPv5.4.0.1//NONSGML v1.0//EN
CALSCALE:GREGORIAN
METHOD:PUBLISH
X-WR-CALNAME:Mykolo Biržiškos gimnazija
X-ORIGINAL-URL:https://vmbg.lt
X-WR-CALDESC:Events for Mykolo Biržiškos gimnazija
BEGIN:VTIMEZONE
TZID:Europe/Helsinki
BEGIN:DAYLIGHT
TZOFFSETFROM:+0200
TZOFFSETTO:+0300
TZNAME:EEST
DTSTART:20230326T010000
END:DAYLIGHT
BEGIN:STANDARD
TZOFFSETFROM:+0300
TZOFFSETTO:+0200
TZNAME:EET
DTSTART:20231029T010000
END:STANDARD
END:VTIMEZONE
BEGIN:VEVENT
DTSTART;TZID=Europe/Helsinki:20230303T090000
DTEND;TZID=Europe/Helsinki:20230303T120000
DTSTAMP:20260421T154911
CREATED:20230227T141759Z
LAST-MODIFIED:20230227T141759Z
UID:13166-1677834000-1677844800@vmbg.lt
SUMMARY:Šimtadienis. Rytinė dalis
DESCRIPTION:
URL:https://vmbg.lt/renginiai/simtadienis-rytine-dalis-2/
END:VEVENT
BEGIN:VEVENT
DTSTART;TZID=Europe/Helsinki:20230303T100000
DTEND;TZID=Europe/Helsinki:20230303T100000
DTSTAMP:20260421T154911
CREATED:20230227T141946Z
LAST-MODIFIED:20230227T142130Z
UID:13170-1677837600-1677837600@vmbg.lt
SUMMARY:Netradicinio ugdymo diena I klasių mokiniams: spektaklis „Kai žmonės vaidino Dievą“ Vilniaus kameriniame teatre (Konstitucijos pr. 23\, Vilnius)
DESCRIPTION:
URL:https://vmbg.lt/renginiai/netradicinio-ugdymo-diena-i-klasiu-mokiniams-spektaklis-kai-zmones-vaidino-dieva-vilniaus-kameriniame-teatre-konstitucijos-pr-23-vilnius/
END:VEVENT
BEGIN:VEVENT
DTSTART;TZID=Europe/Helsinki:20230303T100000
DTEND;TZID=Europe/Helsinki:20230303T100000
DTSTAMP:20260421T154911
CREATED:20230227T142051Z
LAST-MODIFIED:20230227T142051Z
UID:13172-1677837600-1677837600@vmbg.lt
SUMMARY:Netradicinio ugdymo diena II klasių mokiniams: filmas „Poetas“ Pasakos kino teatre (Šv. Ignoto g. 4\, Vilnius)
DESCRIPTION:
URL:https://vmbg.lt/renginiai/netradicinio-ugdymo-diena-ii-klasiu-mokiniams-filmas-poetas-pasakos-kino-teatre-sv-ignoto-g-4-vilnius/
END:VEVENT
BEGIN:VEVENT
DTSTART;TZID=Europe/Helsinki:20230303T180000
DTEND;TZID=Europe/Helsinki:20230303T210000
DTSTAMP:20260421T154911
CREATED:20230227T141850Z
LAST-MODIFIED:20230227T141850Z
UID:13168-1677866400-1677877200@vmbg.lt
SUMMARY:Šimtadienis. Vakarinė dalis
DESCRIPTION:
URL:https://vmbg.lt/renginiai/simtadienis-vakarine-dalis/
END:VEVENT
END:VCALENDAR