BEGIN:VCALENDAR
VERSION:2.0
PRODID:-//Mykolo Biržiškos gimnazija - ECPv5.4.0.1//NONSGML v1.0//EN
CALSCALE:GREGORIAN
METHOD:PUBLISH
X-WR-CALNAME:Mykolo Biržiškos gimnazija
X-ORIGINAL-URL:https://vmbg.lt
X-WR-CALDESC:Events for Mykolo Biržiškos gimnazija
BEGIN:VTIMEZONE
TZID:Europe/Helsinki
BEGIN:DAYLIGHT
TZOFFSETFROM:+0200
TZOFFSETTO:+0300
TZNAME:EEST
DTSTART:20230326T010000
END:DAYLIGHT
BEGIN:STANDARD
TZOFFSETFROM:+0300
TZOFFSETTO:+0200
TZNAME:EET
DTSTART:20231029T010000
END:STANDARD
END:VTIMEZONE
BEGIN:VEVENT
DTSTART;TZID=Europe/Helsinki:20230308T110000
DTEND;TZID=Europe/Helsinki:20230308T114500
DTSTAMP:20260422T002903
CREATED:20230227T142559Z
LAST-MODIFIED:20230227T142559Z
UID:13181-1678273200-1678275900@vmbg.lt
SUMMARY:Raštingiausio gimnazisto konkurso finalas
DESCRIPTION:
URL:https://vmbg.lt/renginiai/rastingiausio-gimnazisto-konkurso-finalas-2/
END:VEVENT
BEGIN:VEVENT
DTSTART;TZID=Europe/Helsinki:20230308T121000
DTEND;TZID=Europe/Helsinki:20230308T131000
DTSTAMP:20260422T002903
CREATED:20230227T142634Z
LAST-MODIFIED:20230227T142634Z
UID:13183-1678277400-1678281000@vmbg.lt
SUMMARY:Lietuvių k. KENGŪRA
DESCRIPTION:
URL:https://vmbg.lt/renginiai/lietuviu-k-kengura-2/
END:VEVENT
END:VCALENDAR