BEGIN:VCALENDAR
VERSION:2.0
PRODID:-//Mykolo Biržiškos gimnazija - ECPv5.4.0.1//NONSGML v1.0//EN
CALSCALE:GREGORIAN
METHOD:PUBLISH
X-WR-CALNAME:Mykolo Biržiškos gimnazija
X-ORIGINAL-URL:https://vmbg.lt
X-WR-CALDESC:Events for Mykolo Biržiškos gimnazija
BEGIN:VTIMEZONE
TZID:Europe/Helsinki
BEGIN:DAYLIGHT
TZOFFSETFROM:+0200
TZOFFSETTO:+0300
TZNAME:EEST
DTSTART:20230326T010000
END:DAYLIGHT
BEGIN:STANDARD
TZOFFSETFROM:+0300
TZOFFSETTO:+0200
TZNAME:EET
DTSTART:20231029T010000
END:STANDARD
END:VTIMEZONE
BEGIN:VEVENT
DTSTART;VALUE=DATE:20230309
DTEND;VALUE=DATE:20230312
DTSTAMP:20260422T034810
CREATED:20230227T142732Z
LAST-MODIFIED:20230227T142732Z
UID:13185-1678320000-1678579199@vmbg.lt
SUMMARY:Lietuvos mokinių 61-osios chemijos olimpiados respublikinis etapas. VU chemijos ir geomokslų fakultetas
DESCRIPTION:
URL:https://vmbg.lt/renginiai/lietuvos-mokiniu-61-osios-chemijos-olimpiados-respublikinis-etapas-vu-chemijos-ir-geomokslu-fakultetas/
END:VEVENT
BEGIN:VEVENT
DTSTART;VALUE=DATE:20230310
DTEND;VALUE=DATE:20230311
DTSTAMP:20260422T034810
CREATED:20230227T143004Z
LAST-MODIFIED:20230227T143004Z
UID:13192-1678406400-1678492799@vmbg.lt
SUMMARY:Nacionalinis mokinių meninis konkursas „Lietuvos kovų už laisvę ir netekčių istorija“. Lietuvos gyventojų genocido ir rezistencijos tyrimo centras
DESCRIPTION:
URL:https://vmbg.lt/renginiai/nacionalinis-mokiniu-meninis-konkursas-lietuvos-kovu-uz-laisve-ir-netekciu-istorija-lietuvos-gyventoju-genocido-ir-rezistencijos-tyrimo-centras/
END:VEVENT
BEGIN:VEVENT
DTSTART;TZID=Europe/Helsinki:20230310T110000
DTEND;TZID=Europe/Helsinki:20230310T110000
DTSTAMP:20260422T034810
CREATED:20230227T142900Z
LAST-MODIFIED:20230227T142900Z
UID:13190-1678446000-1678446000@vmbg.lt
SUMMARY:Kovo 11-osios minėjimas
DESCRIPTION:
URL:https://vmbg.lt/renginiai/kovo-11-osios-minejimas/
END:VEVENT
END:VCALENDAR