BEGIN:VCALENDAR
VERSION:2.0
PRODID:-//Mykolo Biržiškos gimnazija - ECPv5.4.0.1//NONSGML v1.0//EN
CALSCALE:GREGORIAN
METHOD:PUBLISH
X-WR-CALNAME:Mykolo Biržiškos gimnazija
X-ORIGINAL-URL:https://vmbg.lt
X-WR-CALDESC:Events for Mykolo Biržiškos gimnazija
BEGIN:VTIMEZONE
TZID:Europe/Helsinki
BEGIN:DAYLIGHT
TZOFFSETFROM:+0200
TZOFFSETTO:+0300
TZNAME:EEST
DTSTART:20230326T010000
END:DAYLIGHT
BEGIN:STANDARD
TZOFFSETFROM:+0300
TZOFFSETTO:+0200
TZNAME:EET
DTSTART:20231029T010000
END:STANDARD
END:VTIMEZONE
BEGIN:VEVENT
DTSTART;TZID=Europe/Helsinki:20230313T090000
DTEND;TZID=Europe/Helsinki:20230313T170000
DTSTAMP:20260422T081451
CREATED:20230322T092831Z
LAST-MODIFIED:20230322T092858Z
UID:13293-1678698000-1678726800@vmbg.lt
SUMMARY:Matematikos PUPP bandomasis elektroninis pasitikrinimas\, organizuojamas NŠA
DESCRIPTION:
URL:https://vmbg.lt/renginiai/matematikos-pupp-bandomasis-elektroninis-pasitikrinimas-organizuojamas-nsa/
END:VEVENT
END:VCALENDAR