BEGIN:VCALENDAR
VERSION:2.0
PRODID:-//Mykolo Biržiškos gimnazija - ECPv5.4.0.1//NONSGML v1.0//EN
CALSCALE:GREGORIAN
METHOD:PUBLISH
X-WR-CALNAME:Mykolo Biržiškos gimnazija
X-ORIGINAL-URL:https://vmbg.lt
X-WR-CALDESC:Events for Mykolo Biržiškos gimnazija
BEGIN:VTIMEZONE
TZID:Europe/Helsinki
BEGIN:DAYLIGHT
TZOFFSETFROM:+0200
TZOFFSETTO:+0300
TZNAME:EEST
DTSTART:20230326T010000
END:DAYLIGHT
BEGIN:STANDARD
TZOFFSETFROM:+0300
TZOFFSETTO:+0200
TZNAME:EET
DTSTART:20231029T010000
END:STANDARD
END:VTIMEZONE
BEGIN:VEVENT
DTSTART;VALUE=DATE:20230316
DTEND;VALUE=DATE:20230319
DTSTAMP:20260422T031914
CREATED:20230227T143203Z
LAST-MODIFIED:20230227T143203Z
UID:13199-1678924800-1679183999@vmbg.lt
SUMMARY:Lietuvos mokinių 70-osios fizikos olimpiados respublikinis etapas. Alytaus Putinų gimnazija
DESCRIPTION:
URL:https://vmbg.lt/renginiai/lietuvos-mokiniu-70-osios-fizikos-olimpiados-respublikinis-etapas-alytaus-putinu-gimnazija/
END:VEVENT
BEGIN:VEVENT
DTSTART;TZID=Europe/Helsinki:20230317T100000
DTEND;TZID=Europe/Helsinki:20230317T100000
DTSTAMP:20260422T031914
CREATED:20230227T143259Z
LAST-MODIFIED:20230227T143311Z
UID:13201-1679047200-1679047200@vmbg.lt
SUMMARY:Policijos pareigūnų paskaita apie atsakomybes (alkoholis\, tabakas\, narkotinės medžiagos ir kt.)
DESCRIPTION:
URL:https://vmbg.lt/renginiai/policijos-pareigunu-paskaita-apie-atsakomybes-alkoholis-tabakas-narkotines-medziagos-ir-kt/
END:VEVENT
END:VCALENDAR