BEGIN:VCALENDAR
VERSION:2.0
PRODID:-//Mykolo Biržiškos gimnazija - ECPv5.4.0.1//NONSGML v1.0//EN
CALSCALE:GREGORIAN
METHOD:PUBLISH
X-WR-CALNAME:Mykolo Biržiškos gimnazija
X-ORIGINAL-URL:https://vmbg.lt
X-WR-CALDESC:Events for Mykolo Biržiškos gimnazija
BEGIN:VTIMEZONE
TZID:Europe/Helsinki
BEGIN:DAYLIGHT
TZOFFSETFROM:+0200
TZOFFSETTO:+0300
TZNAME:EEST
DTSTART:20230326T010000
END:DAYLIGHT
BEGIN:STANDARD
TZOFFSETFROM:+0300
TZOFFSETTO:+0200
TZNAME:EET
DTSTART:20231029T010000
END:STANDARD
END:VTIMEZONE
BEGIN:VEVENT
DTSTART;TZID=Europe/Helsinki:20230321T084000
DTEND;TZID=Europe/Helsinki:20230321T151500
DTSTAMP:20260421T205243
CREATED:20230227T143647Z
LAST-MODIFIED:20230227T143647Z
UID:13209-1679388000-1679411700@vmbg.lt
SUMMARY:LIETUVIŲ KALBOS IR LITERATŪROS ĮSKAITA (IV a\, c\, d\, e\, f\, g kl.)
DESCRIPTION:
URL:https://vmbg.lt/renginiai/lietuviu-kalbos-ir-literaturos-iskaita-iv-a-c-d-e-f-g-kl/
END:VEVENT
BEGIN:VEVENT
DTSTART;TZID=Europe/Helsinki:20230321T133000
DTEND;TZID=Europe/Helsinki:20230321T133000
DTSTAMP:20260421T205243
CREATED:20230227T143739Z
LAST-MODIFIED:20230227T143739Z
UID:13211-1679405400-1679405400@vmbg.lt
SUMMARY:Festivalis „Poezijos balsai“. Vilniaus A. Mickevičiaus viešoji biblioteka
DESCRIPTION:
URL:https://vmbg.lt/renginiai/festivalis-poezijos-balsai-vilniaus-a-mickeviciaus-viesoji-biblioteka/
END:VEVENT
END:VCALENDAR