BEGIN:VCALENDAR
VERSION:2.0
PRODID:-//Mykolo Biržiškos gimnazija - ECPv5.4.0.1//NONSGML v1.0//EN
CALSCALE:GREGORIAN
METHOD:PUBLISH
X-WR-CALNAME:Mykolo Biržiškos gimnazija
X-ORIGINAL-URL:https://vmbg.lt
X-WR-CALDESC:Events for Mykolo Biržiškos gimnazija
BEGIN:VTIMEZONE
TZID:Europe/Helsinki
BEGIN:DAYLIGHT
TZOFFSETFROM:+0200
TZOFFSETTO:+0300
TZNAME:EEST
DTSTART:20230326T010000
END:DAYLIGHT
BEGIN:STANDARD
TZOFFSETFROM:+0300
TZOFFSETTO:+0200
TZNAME:EET
DTSTART:20231029T010000
END:STANDARD
END:VTIMEZONE
BEGIN:VEVENT
DTSTART;TZID=Europe/Helsinki:20230322T084000
DTEND;TZID=Europe/Helsinki:20230322T151500
DTSTAMP:20260421T192223
CREATED:20230227T144208Z
LAST-MODIFIED:20230227T144208Z
UID:13213-1679474400-1679498100@vmbg.lt
SUMMARY:LIETUVIŲ KALBOS IR LITERATŪROS ĮSKAITA (IV b\, c\, e kl.)
DESCRIPTION:
URL:https://vmbg.lt/renginiai/lietuviu-kalbos-ir-literaturos-iskaita-iv-b-c-e-kl/
END:VEVENT
BEGIN:VEVENT
DTSTART;TZID=Europe/Helsinki:20230322T140000
DTEND;TZID=Europe/Helsinki:20230322T140000
DTSTAMP:20260421T192223
CREATED:20230227T143434Z
LAST-MODIFIED:20230308T103140Z
UID:13205-1679493600-1679493600@vmbg.lt
SUMMARY:II klasių chorų konkursas „Chorų karai 2023“
DESCRIPTION:
URL:https://vmbg.lt/renginiai/ii-klasiu-choru-konkursas-choru-karai-2023/
END:VEVENT
END:VCALENDAR