BEGIN:VCALENDAR
VERSION:2.0
PRODID:-//Mykolo Biržiškos gimnazija - ECPv5.4.0.1//NONSGML v1.0//EN
CALSCALE:GREGORIAN
METHOD:PUBLISH
X-WR-CALNAME:Mykolo Biržiškos gimnazija
X-ORIGINAL-URL:https://vmbg.lt
X-WR-CALDESC:Events for Mykolo Biržiškos gimnazija
BEGIN:VTIMEZONE
TZID:Europe/Helsinki
BEGIN:DAYLIGHT
TZOFFSETFROM:+0200
TZOFFSETTO:+0300
TZNAME:EEST
DTSTART:20230326T010000
END:DAYLIGHT
BEGIN:STANDARD
TZOFFSETFROM:+0300
TZOFFSETTO:+0200
TZNAME:EET
DTSTART:20231029T010000
END:STANDARD
END:VTIMEZONE
BEGIN:VEVENT
DTSTART;VALUE=DATE:20230323
DTEND;VALUE=DATE:20230326
DTSTAMP:20260421T154625
CREATED:20230227T145248Z
LAST-MODIFIED:20230227T145248Z
UID:13237-1679529600-1679788799@vmbg.lt
SUMMARY:Užsienio (rusų) kalbos olimpiados šalies etapas. Kauno tarptautinė mokykla
DESCRIPTION:
URL:https://vmbg.lt/renginiai/uzsienio-rusu-kalbos-olimpiados-salies-etapas-kauno-tarptautine-mokykla/
END:VEVENT
BEGIN:VEVENT
DTSTART;VALUE=DATE:20230324
DTEND;VALUE=DATE:20230325
DTSTAMP:20260421T154625
CREATED:20230322T092628Z
LAST-MODIFIED:20230322T092628Z
UID:13291-1679616000-1679702399@vmbg.lt
SUMMARY:Šimtakojo festivalis - 2023. Vytauto Didžiojo gimnazija
DESCRIPTION:
URL:https://vmbg.lt/renginiai/simtakojo-festivalis-2023-vytauto-didziojo-gimnazija/
END:VEVENT
BEGIN:VEVENT
DTSTART;TZID=Europe/Helsinki:20230324T084000
DTEND;TZID=Europe/Helsinki:20230324T151500
DTSTAMP:20260421T154625
CREATED:20230227T144428Z
LAST-MODIFIED:20230227T144428Z
UID:13219-1679647200-1679670900@vmbg.lt
SUMMARY:LIETUVIŲ KALBOS IR LITERATŪROS ĮSKAITA  (IV f kl.)
DESCRIPTION:
URL:https://vmbg.lt/renginiai/lietuviu-kalbos-ir-literaturos-iskaita-iv-f-kl/
END:VEVENT
BEGIN:VEVENT
DTSTART;TZID=Europe/Helsinki:20230324T170000
DTEND;TZID=Europe/Helsinki:20230324T170000
DTSTAMP:20260421T154625
CREATED:20230227T144528Z
LAST-MODIFIED:20230227T144544Z
UID:13221-1679677200-1679677200@vmbg.lt
SUMMARY:„Šokių šėlsmas“ Ukmergės Antano Smetonos gimnazijoje
DESCRIPTION:
URL:https://vmbg.lt/renginiai/sokiu-selsmas-ukmerges-antano-smetonos-gimnazijoje/
END:VEVENT
END:VCALENDAR