BEGIN:VCALENDAR
VERSION:2.0
PRODID:-//Mykolo Biržiškos gimnazija - ECPv5.4.0.1//NONSGML v1.0//EN
CALSCALE:GREGORIAN
METHOD:PUBLISH
X-WR-CALNAME:Mykolo Biržiškos gimnazija
X-ORIGINAL-URL:https://vmbg.lt
X-WR-CALDESC:Events for Mykolo Biržiškos gimnazija
BEGIN:VTIMEZONE
TZID:Europe/Helsinki
BEGIN:DAYLIGHT
TZOFFSETFROM:+0200
TZOFFSETTO:+0300
TZNAME:EEST
DTSTART:20230326T010000
END:DAYLIGHT
BEGIN:STANDARD
TZOFFSETFROM:+0300
TZOFFSETTO:+0200
TZNAME:EET
DTSTART:20231029T010000
END:STANDARD
END:VTIMEZONE
BEGIN:VEVENT
DTSTART;TZID=Europe/Helsinki:20230427T121000
DTEND;TZID=Europe/Helsinki:20230427T134500
DTSTAMP:20260422T060421
CREATED:20230403T052141Z
LAST-MODIFIED:20230403T052141Z
UID:13373-1682597400-1682603100@vmbg.lt
SUMMARY:Jogos užsiėmimai. Sąmoningumo studija „Upė”. II g kl.
DESCRIPTION:
URL:https://vmbg.lt/renginiai/jogos-uzsiemimai-samoningumo-studija-upe-ii-g-kl/
END:VEVENT
BEGIN:VEVENT
DTSTART;TZID=Europe/Helsinki:20230427T130000
DTEND;TZID=Europe/Helsinki:20230427T130000
DTSTAMP:20260422T060421
CREATED:20230403T051942Z
LAST-MODIFIED:20230403T051942Z
UID:13369-1682600400-1682600400@vmbg.lt
SUMMARY:Lektorės psichologės Birutės Garmanaitės paskaita „Kaip įveikti nerimą dėl ateities ir išsiugdyti emocinį atsparumą?“
DESCRIPTION:
URL:https://vmbg.lt/renginiai/lektores-psichologes-birutes-garmanaites-paskaita-kaip-iveikti-nerima-del-ateities-ir-issiugdyti-emocini-atsparuma/
END:VEVENT
BEGIN:VEVENT
DTSTART;TZID=Europe/Helsinki:20230427T140000
DTEND;TZID=Europe/Helsinki:20230427T140000
DTSTAMP:20260422T060421
CREATED:20230403T052037Z
LAST-MODIFIED:20230403T052037Z
UID:13371-1682604000-1682604000@vmbg.lt
SUMMARY:Gimnazijos I klasių mokinių matematikos konkursas  „Lygčių sistemų sprendimas“. Vilniaus Žemynos gimnazija
DESCRIPTION:
URL:https://vmbg.lt/renginiai/gimnazijos-i-klasiu-mokiniu-matematikos-konkursas-lygciu-sistemu-sprendimas-vilniaus-zemynos-gimnazija/
END:VEVENT
END:VCALENDAR