BEGIN:VCALENDAR
VERSION:2.0
PRODID:-//Mykolo Biržiškos gimnazija - ECPv5.4.0.1//NONSGML v1.0//EN
CALSCALE:GREGORIAN
METHOD:PUBLISH
X-WR-CALNAME:Mykolo Biržiškos gimnazija
X-ORIGINAL-URL:https://vmbg.lt
X-WR-CALDESC:Events for Mykolo Biržiškos gimnazija
BEGIN:VTIMEZONE
TZID:Europe/Helsinki
BEGIN:DAYLIGHT
TZOFFSETFROM:+0200
TZOFFSETTO:+0300
TZNAME:EEST
DTSTART:20230326T010000
END:DAYLIGHT
BEGIN:STANDARD
TZOFFSETFROM:+0300
TZOFFSETTO:+0200
TZNAME:EET
DTSTART:20231029T010000
END:STANDARD
END:VTIMEZONE
BEGIN:VEVENT
DTSTART;TZID=Europe/Helsinki:20230602T085000
DTEND;TZID=Europe/Helsinki:20230602T095000
DTSTAMP:20260421T203807
CREATED:20230502T073008Z
LAST-MODIFIED:20230502T073008Z
UID:13446-1685695800-1685699400@vmbg.lt
SUMMARY:„Paskutinio skambučio“ šventė. Abiturientų atvykimas
DESCRIPTION:
URL:https://vmbg.lt/renginiai/paskutinio-skambucio-svente-abiturientu-atvykimas/
END:VEVENT
BEGIN:VEVENT
DTSTART;TZID=Europe/Helsinki:20230602T095000
DTEND;TZID=Europe/Helsinki:20230602T114500
DTSTAMP:20260421T203807
CREATED:20230502T073118Z
LAST-MODIFIED:20230502T073118Z
UID:13448-1685699400-1685706300@vmbg.lt
SUMMARY:„Paskutinio skambučio“ šventė. Gyvenimo pamokos
DESCRIPTION:
URL:https://vmbg.lt/renginiai/paskutinio-skambucio-svente-gyvenimo-pamokos/
END:VEVENT
BEGIN:VEVENT
DTSTART;TZID=Europe/Helsinki:20230602T120000
DTEND;TZID=Europe/Helsinki:20230602T120000
DTSTAMP:20260421T203807
CREATED:20230502T073158Z
LAST-MODIFIED:20230502T073158Z
UID:13450-1685707200-1685707200@vmbg.lt
SUMMARY:„Paskutinio skambučio“ šventė. Renginys aktų salėje
DESCRIPTION:
URL:https://vmbg.lt/renginiai/paskutinio-skambucio-svente-renginys-aktu-saleje/
END:VEVENT
END:VCALENDAR