BEGIN:VCALENDAR
VERSION:2.0
PRODID:-//Mykolo Biržiškos gimnazija - ECPv5.4.0.1//NONSGML v1.0//EN
CALSCALE:GREGORIAN
METHOD:PUBLISH
X-WR-CALNAME:Mykolo Biržiškos gimnazija
X-ORIGINAL-URL:https://vmbg.lt
X-WR-CALDESC:Events for Mykolo Biržiškos gimnazija
BEGIN:VTIMEZONE
TZID:Europe/Helsinki
BEGIN:DAYLIGHT
TZOFFSETFROM:+0200
TZOFFSETTO:+0300
TZNAME:EEST
DTSTART:20230326T010000
END:DAYLIGHT
BEGIN:STANDARD
TZOFFSETFROM:+0300
TZOFFSETTO:+0200
TZNAME:EET
DTSTART:20231029T010000
END:STANDARD
END:VTIMEZONE
BEGIN:VEVENT
DTSTART;VALUE=DATE:20230612
DTEND;VALUE=DATE:20230613
DTSTAMP:20260421T204735
CREATED:20230606T083518Z
LAST-MODIFIED:20230606T083518Z
UID:13634-1686528000-1686614399@vmbg.lt
SUMMARY:VBE GEOGRAFIJA
DESCRIPTION:
URL:https://vmbg.lt/renginiai/vbe-geografija-2/
END:VEVENT
BEGIN:VEVENT
DTSTART;TZID=Europe/Helsinki:20230612T130000
DTEND;TZID=Europe/Helsinki:20230612T130000
DTSTAMP:20260421T204735
CREATED:20230606T083557Z
LAST-MODIFIED:20230606T083557Z
UID:13636-1686574800-1686574800@vmbg.lt
SUMMARY:Poezijos slemas
DESCRIPTION:
URL:https://vmbg.lt/renginiai/poezijos-slemas/
END:VEVENT
END:VCALENDAR