BEGIN:VCALENDAR
VERSION:2.0
PRODID:-//Mykolo Biržiškos gimnazija - ECPv5.4.0.1//NONSGML v1.0//EN
CALSCALE:GREGORIAN
METHOD:PUBLISH
X-WR-CALNAME:Mykolo Biržiškos gimnazija
X-ORIGINAL-URL:https://vmbg.lt
X-WR-CALDESC:Events for Mykolo Biržiškos gimnazija
BEGIN:VTIMEZONE
TZID:Europe/Helsinki
BEGIN:DAYLIGHT
TZOFFSETFROM:+0200
TZOFFSETTO:+0300
TZNAME:EEST
DTSTART:20240331T010000
END:DAYLIGHT
BEGIN:STANDARD
TZOFFSETFROM:+0300
TZOFFSETTO:+0200
TZNAME:EET
DTSTART:20241027T010000
END:STANDARD
END:VTIMEZONE
BEGIN:VEVENT
DTSTART;TZID=Europe/Helsinki:20240129T090000
DTEND;TZID=Europe/Helsinki:20240129T140000
DTSTAMP:20260422T235751
CREATED:20240107T144417Z
LAST-MODIFIED:20240107T144417Z
UID:14335-1706518800-1706536800@vmbg.lt
SUMMARY:Lietuvos mokinių 35-osios informatikos olimpiados  III etapo I dalis
DESCRIPTION:
URL:https://vmbg.lt/renginiai/lietuvos-mokiniu-35-osios-informatikos-olimpiados-iii-etapo-i-dalis/
END:VEVENT
END:VCALENDAR