BEGIN:VCALENDAR
VERSION:2.0
PRODID:-//Mykolo Biržiškos gimnazija - ECPv5.4.0.1//NONSGML v1.0//EN
CALSCALE:GREGORIAN
METHOD:PUBLISH
X-WR-CALNAME:Mykolo Biržiškos gimnazija
X-ORIGINAL-URL:https://vmbg.lt
X-WR-CALDESC:Events for Mykolo Biržiškos gimnazija
BEGIN:VTIMEZONE
TZID:Europe/Helsinki
BEGIN:DAYLIGHT
TZOFFSETFROM:+0200
TZOFFSETTO:+0300
TZNAME:EEST
DTSTART:20240331T010000
END:DAYLIGHT
BEGIN:STANDARD
TZOFFSETFROM:+0300
TZOFFSETTO:+0200
TZNAME:EET
DTSTART:20241027T010000
END:STANDARD
END:VTIMEZONE
BEGIN:VEVENT
DTSTART;TZID=Europe/Helsinki:20240203T100000
DTEND;TZID=Europe/Helsinki:20240203T100000
DTSTAMP:20260422T155920
CREATED:20240131T055128Z
LAST-MODIFIED:20240131T055128Z
UID:14492-1706954400-1706954400@vmbg.lt
SUMMARY:Lietuvos mokinių muzikos olimpiados miesto etapas. Maironio progimnazija
DESCRIPTION:
URL:https://vmbg.lt/renginiai/lietuvos-mokiniu-muzikos-olimpiados-miesto-etapas-maironio-progimnazija/
END:VEVENT
END:VCALENDAR