BEGIN:VCALENDAR
VERSION:2.0
PRODID:-//Mykolo Biržiškos gimnazija - ECPv5.4.0.1//NONSGML v1.0//EN
CALSCALE:GREGORIAN
METHOD:PUBLISH
X-WR-CALNAME:Mykolo Biržiškos gimnazija
X-ORIGINAL-URL:https://vmbg.lt
X-WR-CALDESC:Events for Mykolo Biržiškos gimnazija
BEGIN:VTIMEZONE
TZID:Europe/Helsinki
BEGIN:DAYLIGHT
TZOFFSETFROM:+0200
TZOFFSETTO:+0300
TZNAME:EEST
DTSTART:20240331T010000
END:DAYLIGHT
BEGIN:STANDARD
TZOFFSETFROM:+0300
TZOFFSETTO:+0200
TZNAME:EET
DTSTART:20241027T010000
END:STANDARD
END:VTIMEZONE
BEGIN:VEVENT
DTSTART;TZID=Europe/Helsinki:20240208T080000
DTEND;TZID=Europe/Helsinki:20240208T110000
DTSTAMP:20260422T075932
CREATED:20240131T055309Z
LAST-MODIFIED:20240131T055309Z
UID:14496-1707379200-1707390000@vmbg.lt
SUMMARY:UŽSIENIO (PRANCŪZŲ ir RUSŲ K.) BANDOMIEJI egzaminai IV kl. mokiniams
DESCRIPTION:
URL:https://vmbg.lt/renginiai/uzsienio-prancuzu-ir-rusu-k-bandomieji-egzaminai-iv-kl-mokiniams/
END:VEVENT
END:VCALENDAR