BEGIN:VCALENDAR
VERSION:2.0
PRODID:-//Mykolo Biržiškos gimnazija - ECPv5.4.0.1//NONSGML v1.0//EN
CALSCALE:GREGORIAN
METHOD:PUBLISH
X-WR-CALNAME:Mykolo Biržiškos gimnazija
X-ORIGINAL-URL:https://vmbg.lt
X-WR-CALDESC:Events for Mykolo Biržiškos gimnazija
BEGIN:VTIMEZONE
TZID:Europe/Helsinki
BEGIN:DAYLIGHT
TZOFFSETFROM:+0200
TZOFFSETTO:+0300
TZNAME:EEST
DTSTART:20240331T010000
END:DAYLIGHT
BEGIN:STANDARD
TZOFFSETFROM:+0300
TZOFFSETTO:+0200
TZNAME:EET
DTSTART:20241027T010000
END:STANDARD
END:VTIMEZONE
BEGIN:VEVENT
DTSTART;VALUE=DATE:20240212
DTEND;VALUE=DATE:20240213
DTSTAMP:20260422T014932
CREATED:20240131T055556Z
LAST-MODIFIED:20240131T055556Z
UID:14500-1707696000-1707782399@vmbg.lt
SUMMARY:Mokinių kūrybinių darbų paroda „Lietuvos nepriklausomybės kelias. Asmenybės.“ Prie aktų salės
DESCRIPTION:
URL:https://vmbg.lt/renginiai/mokiniu-kurybiniu-darbu-paroda-lietuvos-nepriklausomybes-kelias-asmenybes-prie-aktu-sales/
END:VEVENT
END:VCALENDAR