BEGIN:VCALENDAR
VERSION:2.0
PRODID:-//Mykolo Biržiškos gimnazija - ECPv5.4.0.1//NONSGML v1.0//EN
CALSCALE:GREGORIAN
METHOD:PUBLISH
X-WR-CALNAME:Mykolo Biržiškos gimnazija
X-ORIGINAL-URL:https://vmbg.lt
X-WR-CALDESC:Events for Mykolo Biržiškos gimnazija
BEGIN:VTIMEZONE
TZID:Europe/Helsinki
BEGIN:DAYLIGHT
TZOFFSETFROM:+0200
TZOFFSETTO:+0300
TZNAME:EEST
DTSTART:20240331T010000
END:DAYLIGHT
BEGIN:STANDARD
TZOFFSETFROM:+0300
TZOFFSETTO:+0200
TZNAME:EET
DTSTART:20241027T010000
END:STANDARD
END:VTIMEZONE
BEGIN:VEVENT
DTSTART;TZID=Europe/Helsinki:20240213T080000
DTEND;TZID=Europe/Helsinki:20240213T094000
DTSTAMP:20260422T000830
CREATED:20240131T060028Z
LAST-MODIFIED:20240131T060028Z
UID:14503-1707811200-1707817200@vmbg.lt
SUMMARY:Matematikos apibendrinamasis darbas I–II klasių mokiniams
DESCRIPTION:
URL:https://vmbg.lt/renginiai/matematikos-apibendrinamasis-darbas-i-ii-klasiu-mokiniams/
END:VEVENT
BEGIN:VEVENT
DTSTART;TZID=Europe/Helsinki:20240213T110000
DTEND;TZID=Europe/Helsinki:20240213T110000
DTSTAMP:20260422T000830
CREATED:20240131T060239Z
LAST-MODIFIED:20240131T060239Z
UID:14505-1707822000-1707822000@vmbg.lt
SUMMARY:Istorijos viktorina\, skirta Vasario 16-osios dienos minėjimui
DESCRIPTION:
URL:https://vmbg.lt/renginiai/istorijos-viktorina-skirta-vasario-16-osios-dienos-minejimui/
END:VEVENT
END:VCALENDAR