BEGIN:VCALENDAR
VERSION:2.0
PRODID:-//Mykolo Biržiškos gimnazija - ECPv5.4.0.1//NONSGML v1.0//EN
CALSCALE:GREGORIAN
METHOD:PUBLISH
X-WR-CALNAME:Mykolo Biržiškos gimnazija
X-ORIGINAL-URL:https://vmbg.lt
X-WR-CALDESC:Events for Mykolo Biržiškos gimnazija
BEGIN:VTIMEZONE
TZID:Europe/Helsinki
BEGIN:DAYLIGHT
TZOFFSETFROM:+0200
TZOFFSETTO:+0300
TZNAME:EEST
DTSTART:20240331T010000
END:DAYLIGHT
BEGIN:STANDARD
TZOFFSETFROM:+0300
TZOFFSETTO:+0200
TZNAME:EET
DTSTART:20241027T010000
END:STANDARD
END:VTIMEZONE
BEGIN:VEVENT
DTSTART;TZID=Europe/Helsinki:20240214T090000
DTEND;TZID=Europe/Helsinki:20240214T130000
DTSTAMP:20260421T222144
CREATED:20240131T060406Z
LAST-MODIFIED:20240131T060406Z
UID:14507-1707901200-1707915600@vmbg.lt
SUMMARY:IV kl. LIETUVIŲ kalbos ir literatūros BANDOMASIS egzaminas
DESCRIPTION:
URL:https://vmbg.lt/renginiai/iv-kl-lietuviu-kalbos-ir-literaturos-bandomasis-egzaminas-3/
END:VEVENT
BEGIN:VEVENT
DTSTART;TZID=Europe/Helsinki:20240214T110000
DTEND;TZID=Europe/Helsinki:20240214T110000
DTSTAMP:20260421T222144
CREATED:20240131T060633Z
LAST-MODIFIED:20240131T060633Z
UID:14509-1707908400-1707908400@vmbg.lt
SUMMARY:Vasario 16-ajai paminėti. Vilniaus Simono Daukanto gimnazijos mokinių spektaklis „Dvylika juodvarnių\, apie Daukantą lakstančių“. Aktų salė
DESCRIPTION:
URL:https://vmbg.lt/renginiai/vasario-16-ajai-pamineti-vilniaus-simono-daukanto-gimnazijos-mokiniu-spektaklis-dvylika-juodvarniu-apie-daukanta-lakstanciu-aktu-sale/
END:VEVENT
BEGIN:VEVENT
DTSTART;TZID=Europe/Helsinki:20240214T140000
DTEND;TZID=Europe/Helsinki:20240214T140000
DTSTAMP:20260421T222144
CREATED:20240131T060728Z
LAST-MODIFIED:20240131T060738Z
UID:14511-1707919200-1707919200@vmbg.lt
SUMMARY:I klasių estafečių varžybos\, skirtos Vasario 16 dienai paminėti
DESCRIPTION:
URL:https://vmbg.lt/renginiai/i-klasiu-estafeciu-varzybos-skirtos-vasario-16-dienai-pamineti/
END:VEVENT
END:VCALENDAR