BEGIN:VCALENDAR
VERSION:2.0
PRODID:-//Mykolo Biržiškos gimnazija - ECPv5.4.0.1//NONSGML v1.0//EN
CALSCALE:GREGORIAN
METHOD:PUBLISH
X-WR-CALNAME:Mykolo Biržiškos gimnazija
X-ORIGINAL-URL:https://vmbg.lt
X-WR-CALDESC:Events for Mykolo Biržiškos gimnazija
BEGIN:VTIMEZONE
TZID:Europe/Helsinki
BEGIN:DAYLIGHT
TZOFFSETFROM:+0200
TZOFFSETTO:+0300
TZNAME:EEST
DTSTART:20240331T010000
END:DAYLIGHT
BEGIN:STANDARD
TZOFFSETFROM:+0300
TZOFFSETTO:+0200
TZNAME:EET
DTSTART:20241027T010000
END:STANDARD
END:VTIMEZONE
BEGIN:VEVENT
DTSTART;TZID=Europe/Helsinki:20240314T080000
DTEND;TZID=Europe/Helsinki:20240314T084500
DTSTAMP:20260421T185847
CREATED:20240131T071119Z
LAST-MODIFIED:20240131T071119Z
UID:14556-1710403200-1710405900@vmbg.lt
SUMMARY:MATEMATIKOS TARPINIS PATIKRINIMAS III kl. mokiniams PAMOKŲ PRADŽIA nuo 10.00 val. (sutrumpintos)
DESCRIPTION:
URL:https://vmbg.lt/renginiai/matematikos-tarpinis-patikrinimas-iii-kl-mokiniams-pamoku-pradzia-nuo-10-00-val-sutrumpintos-2/
END:VEVENT
BEGIN:VEVENT
DTSTART;TZID=Europe/Helsinki:20240314T100000
DTEND;TZID=Europe/Helsinki:20240314T130000
DTSTAMP:20260421T185847
CREATED:20240131T071255Z
LAST-MODIFIED:20240131T071255Z
UID:14558-1710410400-1710421200@vmbg.lt
SUMMARY:Chemijos bandomasis egzaminas IV kl.
DESCRIPTION:
URL:https://vmbg.lt/renginiai/chemijos-bandomasis-egzaminas-iv-kl/
END:VEVENT
END:VCALENDAR